FILENAME: O4611208.NES.956520.tif
QUADRANGLE_NAME: SHEEP CREEK
QUADRANT: NE
WEST_LONGITUDE: -112 3 45.00000
EAST_LONGITUDE: -112 0 0.00000
NORTH_LATITUDE: 47 0 0.00000
SOUTH_LATITUDE: 46 56 15.00000
PRODUCTION_DATE: 1998 12 30
RASTER_ORDER: LEFT_RIGHT/TOP_BOTTOM
BAND_ORGANIZATION: SINGLE FILE
BAND_CONTENT: BLACK&WHITE
BAND_CONTENT: UNDEFINED
BAND_CONTENT: UNDEFINED
BITS_PER_PIXEL: 8
SAMPLES_AND_LINES: 5550 7650
HORIZONTAL_DATUM: NAD83
HORIZONTAL_COORDINATE_SYSTEM: UTM
COORDINATE_ZONE: 12
HORIZONTAL_UNITS: METERS
HORIZONTAL_RESOLUTION: 1.00000
SECONDARY_HORIZONTAL_DATUM: NAD27
XY_ORIGIN: 418740.00000 5206020.00000
SECONDARY_XY_ORIGIN: 418801.17200 5205806.95900
NATION: US
STATE: MT
NW_QUAD_CORNER_XY: 419223.14200 5205711.90100
NE_QUAD_CORNER_XY: 423974.68800 5205649.34800
SE_QUAD_CORNERY_XY: 423886.07100 5198704.05900
SW_QUAD_CORNER_XY: 419128.98500 5198766.62100
SECONDARY_NW_QUAD_XY: 419220.65300 5205493.38300
SECONDARY_NE_QUAD_XY: 423972.34500 5205430.82800
SECONDARY_SE_QUAD_XY: 423883.72800 5198485.56800
SECONDARY_SW_QUAD_XY: 419126.49600 5198548.13200
RMSE_XY: 2.27000
IMAGE_SOURCE: BLACK AND WHITE FILM
SOURCE_IMAGE_ID: NAPP 8388 22
SOURCE_IMAGE_DATE: 1995 08 09
SOURCE_IMAGE_ID: NAPP 8388 24
SOURCE_IMAGE_DATE: 1995 08 09
SOURCE_DEM_DATE: 1998 01 01
AGENCY: WESTERN MAPPING CENTER (WMC)
PRODUCER: ANALYTICAL SURVEYS INC.
PRODUCTION_SYSTEM: ORBIT OR_RECTIFY V.5.2
COMPRESSION: UNDEFINED
STANDARD_VERSION: 1996 12
METADATA_DATE: 1999 01 05
DATA_FILE_SIZE: 42463050
BYTE_COUNT: 5550
