FILENAME: O4611203.NWS.965041.tif
QUADRANGLE_NAME: LINCOLN
QUADRANT: NW
WEST_LONGITUDE: -112 45 0.00000
EAST_LONGITUDE: -112 41 15.00000
NORTH_LATITUDE: 47 0 0.00000
SOUTH_LATITUDE: 46 56 15.00000
PRODUCTION_DATE: 1998 12 24
RASTER_ORDER: LEFT_RIGHT/TOP_BOTTOM
BAND_ORGANIZATION: SINGLE FILE
BAND_CONTENT: BLACK&WHITE
BAND_CONTENT: UNDEFINED
BAND_CONTENT: UNDEFINED
BITS_PER_PIXEL: 8
SAMPLES_AND_LINES: 5610 7710
HORIZONTAL_DATUM: NAD83
HORIZONTAL_COORDINATE_SYSTEM: UTM
COORDINATE_ZONE: 12
HORIZONTAL_UNITS: METERS
HORIZONTAL_RESOLUTION: 1.00000
SECONDARY_HORIZONTAL_DATUM: NAD27
XY_ORIGIN: 366420.00000 5206980.00000
SECONDARY_XY_ORIGIN: 366482.81600 5206766.62800
NATION: US
STATE: MT
NW_QUAD_CORNER_XY: 366956.65800 5206650.29100
NE_QUAD_CORNER_XY: 371708.11000 5206546.01700
SE_QUAD_CORNERY_XY: 371558.54300 5199600.86000
SW_QUAD_CORNER_XY: 366801.54800 5199705.14900
SECONDARY_NW_QUAD_XY: 366952.55800 5206431.80200
SECONDARY_NE_QUAD_XY: 371704.15600 5206327.52500
SECONDARY_SE_QUAD_XY: 371554.59000 5199382.39700
SECONDARY_SW_QUAD_XY: 366797.44900 5199486.68900
RMSE_XY: 1.72000
IMAGE_SOURCE: BLACK AND WHITE FILM
SOURCE_IMAGE_ID: NAPP 9485 18
SOURCE_IMAGE_DATE: 1995 08 20
SOURCE_IMAGE_ID: NAPP 8386 135
SOURCE_IMAGE_DATE: 1995 08 05
SOURCE_DEM_DATE: 1998 01 01
AGENCY: WESTERN MAPPING CENTER (WMC)
PRODUCER: ANALYTICAL SURVEYS INC.
PRODUCTION_SYSTEM: ORBIT OR_RECTIFY V.5.2
COMPRESSION: UNDEFINED
STANDARD_VERSION: 1996 12
METADATA_DATE: 1998 12 29
DATA_FILE_SIZE: 43258710
BYTE_COUNT: 5610
