FILENAME: O4611203.SWS.965043.tif
QUADRANGLE_NAME: LINCOLN
QUADRANT: SW
WEST_LONGITUDE: -112 45 0.00000
EAST_LONGITUDE: -112 41 15.00000
NORTH_LATITUDE: 46 56 15.00000
SOUTH_LATITUDE: 46 52 30.00000
PRODUCTION_DATE: 1998 12 24
RASTER_ORDER: LEFT_RIGHT/TOP_BOTTOM
BAND_ORGANIZATION: SINGLE FILE
BAND_CONTENT: BLACK&WHITE
BAND_CONTENT: UNDEFINED
BAND_CONTENT: UNDEFINED
BITS_PER_PIXEL: 8
SAMPLES_AND_LINES: 5610 7680
HORIZONTAL_DATUM: NAD83
HORIZONTAL_COORDINATE_SYSTEM: UTM
COORDINATE_ZONE: 12
HORIZONTAL_UNITS: METERS
HORIZONTAL_RESOLUTION: 1.00000
SECONDARY_HORIZONTAL_DATUM: NAD27
XY_ORIGIN: 366270.00000 5200020.00000
SECONDARY_XY_ORIGIN: 366332.86100 5199806.78900
NATION: US
STATE: MT
NW_QUAD_CORNER_XY: 366801.54800 5199705.14900
NE_QUAD_CORNER_XY: 371558.54300 5199600.86000
SE_QUAD_CORNERY_XY: 371409.13000 5192655.77200
SW_QUAD_CORNER_XY: 366646.59800 5192760.07600
SECONDARY_NW_QUAD_XY: 366797.44900 5199486.68900
SECONDARY_NE_QUAD_XY: 371554.59000 5199382.39700
SECONDARY_SE_QUAD_XY: 371405.17700 5192437.33900
SECONDARY_SW_QUAD_XY: 366642.49900 5192541.64600
RMSE_XY: 1.81000
IMAGE_SOURCE: BLACK AND WHITE FILM
SOURCE_IMAGE_ID: NAPP 9485 20
SOURCE_IMAGE_DATE: 1995 08 20
SOURCE_DEM_DATE: 1998 01 01
AGENCY: WESTERN MAPPING CENTER (WMC)
PRODUCER: ANALYTICAL SURVEYS INC.
PRODUCTION_SYSTEM: ORBIT OR_RECTIFY V.5.2
COMPRESSION: UNDEFINED
STANDARD_VERSION: 1996 12
METADATA_DATE: 1998 12 29
DATA_FILE_SIZE: 43090410
BYTE_COUNT: 5610
