FILENAME: O4611202.NES.949891.tif
QUADRANGLE_NAME: MOOSE CREEK
QUADRANT: NE
WEST_LONGITUDE: -112 48 45.00000
EAST_LONGITUDE: -112 45 0.00000
NORTH_LATITUDE: 47 0 0.00000
SOUTH_LATITUDE: 46 56 15.00000
PRODUCTION_DATE: 1998 12 22
RASTER_ORDER: LEFT_RIGHT/TOP_BOTTOM
BAND_ORGANIZATION: SINGLE FILE
BAND_CONTENT: BLACK&WHITE
BAND_CONTENT: UNDEFINED
BAND_CONTENT: UNDEFINED
BITS_PER_PIXEL: 8
SAMPLES_AND_LINES: 5610 7680
HORIZONTAL_DATUM: NAD83
HORIZONTAL_COORDINATE_SYSTEM: UTM
COORDINATE_ZONE: 12
HORIZONTAL_UNITS: METERS
HORIZONTAL_RESOLUTION: 1.00000
SECONDARY_HORIZONTAL_DATUM: NAD27
XY_ORIGIN: 361650.00000 5207070.00000
SECONDARY_XY_ORIGIN: 361712.80700 5206856.59900
NATION: US
STATE: MT
NW_QUAD_CORNER_XY: 362205.21700 5206758.35800
NE_QUAD_CORNER_XY: 366956.65800 5206650.29100
SE_QUAD_CORNERY_XY: 366801.54800 5199705.14900
SW_QUAD_CORNER_XY: 362044.56400 5199813.23200
SECONDARY_NW_QUAD_XY: 362200.97000 5206539.87300
SECONDARY_NE_QUAD_XY: 366952.55800 5206431.80200
SECONDARY_SE_QUAD_XY: 366797.44900 5199486.68900
SECONDARY_SW_QUAD_XY: 362040.31800 5199594.77600
RMSE_XY: 3.04000
IMAGE_SOURCE: BLACK AND WHITE FILM
SOURCE_IMAGE_ID: NAPP 9485 81
SOURCE_IMAGE_DATE: 1995 08 20
SOURCE_DEM_DATE: 1997 00 00
AGENCY: WESTERN MAPPING CENTER (WMC)
PRODUCER: ANALYTICAL SURVEYS INC.
PRODUCTION_SYSTEM: ORBIT OR_RECTIFY V.5.2
COMPRESSION: UNDEFINED
STANDARD_VERSION: 1996 12
METADATA_DATE: 1999 01 05
DATA_FILE_SIZE: 43090410
BYTE_COUNT: 5610
