FILENAME: O4611201.NES.1078911.tif
QUADRANGLE_NAME: MARCUM MOUNTAIN
QUADRANT: NE
WEST_LONGITUDE: -112 56 15.00000
EAST_LONGITUDE: -112 52 30.00000
NORTH_LATITUDE: 47 0 0.00000
SOUTH_LATITUDE: 46 56 15.00000
PRODUCTION_DATE: 2000 5 24
RASTER_ORDER: LEFT_RIGHT/TOP_BOTTOM
BAND_ORGANIZATION: SINGLE FILE
BAND_CONTENT: BLACK&WHITE
BAND_CONTENT: UNDEFINED
BAND_CONTENT: UNDEFINED
BITS_PER_PIXEL: 8
SAMPLES_AND_LINES: 5593 7669
HORIZONTAL_DATUM: NAD83
HORIZONTAL_COORDINATE_SYSTEM: UTM
COORDINATE_ZONE: 12
HORIZONTAL_UNITS: METERS
HORIZONTAL_RESOLUTION: 1.00000
SECONDARY_HORIZONTAL_DATUM: NAD27
XY_ORIGIN: 352162.00000 5207286.00000
SECONDARY_XY_ORIGIN: 352224.80000 5207072.53500
NATION: US
NATION: "SCIENCE
STATE: MT
NW_QUAD_CORNER_XY: 352702.36900 5206985.87600
NE_QUAD_CORNER_XY: 357453.78700 5206870.22000
SE_QUAD_CORNERY_XY: 357287.59100 5199925.11000
SW_QUAD_CORNER_XY: 352530.63000 5200040.78400
SECONDARY_NW_QUAD_XY: 352697.82900 5206767.39800
SECONDARY_NE_QUAD_XY: 357449.39400 5206651.73800
SECONDARY_SE_QUAD_XY: 357283.19900 5199706.65700
SECONDARY_SW_QUAD_XY: 352526.09100 5199822.33400
RMSE_XY: 1.70000
IMAGE_SOURCE: BLACK AND WHITE FILM
SOURCE_IMAGE_ID: NAPP 9491 079
SOURCE_IMAGE_DATE: 1995 09 01
SOURCE_IMAGE_ID: NAPP 9491 080
SOURCE_IMAGE_DATE: 1995 09 01
SOURCE_IMAGE_ID: NAPP 9491 078
SOURCE_IMAGE_DATE: 1995 09 01
SOURCE_DEM_DATE: 1968 00 00
AGENCY: WESTERN MAPPING CENTER (WMC)
PRODUCER: UNDEFINED
PRODUCTION_SYSTEM: GIS/MAGIC
COMPRESSION: UNDEFINED
STANDARD_VERSION: 1996 12
METADATA_DATE: 2000 05 27
DATA_FILE_SIZE: 42898310
BYTE_COUNT: 5593
