FILENAME: O4611201.NWS.1078912.tif
QUADRANGLE_NAME: MARCUM MOUNTAIN
QUADRANT: NW
WEST_LONGITUDE: -113 0 0.00000
EAST_LONGITUDE: -112 56 15.00000
NORTH_LATITUDE: 47 0 0.00000
SOUTH_LATITUDE: 46 56 15.00000
PRODUCTION_DATE: 2000 5 24
RASTER_ORDER: LEFT_RIGHT/TOP_BOTTOM
BAND_ORGANIZATION: SINGLE FILE
BAND_CONTENT: BLACK&WHITE
BAND_CONTENT: UNDEFINED
BAND_CONTENT: UNDEFINED
BITS_PER_PIXEL: 8
SAMPLES_AND_LINES: 5599 7673
HORIZONTAL_DATUM: NAD83
HORIZONTAL_COORDINATE_SYSTEM: UTM
COORDINATE_ZONE: 12
HORIZONTAL_UNITS: METERS
HORIZONTAL_RESOLUTION: 1.00000
SECONDARY_HORIZONTAL_DATUM: NAD27
XY_ORIGIN: 347405.00000 5207406.00000
SECONDARY_XY_ORIGIN: 347467.79700 5207192.50200
NATION: US
NATION: "SCIENCE
STATE: MT
NW_QUAD_CORNER_XY: 347950.96300 5207105.32700
NE_QUAD_CORNER_XY: 352702.36900 5206985.87600
SE_QUAD_CORNERY_XY: 352530.63000 5200040.78400
SW_QUAD_CORNER_XY: 347773.68000 5200160.25200
SECONDARY_NW_QUAD_XY: 347946.27700 5206886.85200
SECONDARY_NE_QUAD_XY: 352697.82900 5206767.39800
SECONDARY_SE_QUAD_XY: 352526.09100 5199822.33400
SECONDARY_SW_QUAD_XY: 347768.99400 5199941.80600
RMSE_XY: 1.80000
IMAGE_SOURCE: BLACK AND WHITE FILM
SOURCE_IMAGE_ID: NAPP 9489 016
SOURCE_IMAGE_DATE: 1995 08 28
SOURCE_IMAGE_ID: NAPP 9489 015
SOURCE_IMAGE_DATE: 1995 08 28
SOURCE_IMAGE_ID: NAPP 9491 078
SOURCE_IMAGE_DATE: 1995 09 01
SOURCE_DEM_DATE: 1968 00 00
AGENCY: WESTERN MAPPING CENTER (WMC)
PRODUCER: UNDEFINED
PRODUCTION_SYSTEM: GIS/MAGIC
COMPRESSION: UNDEFINED
STANDARD_VERSION: 1996 12
METADATA_DATE: 2000 05 27
DATA_FILE_SIZE: 42966726
BYTE_COUNT: 5599
