FILENAME: O4611201.SES.1078913.tif
QUADRANGLE_NAME: MARCUM MOUNTAIN
QUADRANT: SE
WEST_LONGITUDE: -112 56 15.00000
EAST_LONGITUDE: -112 52 30.00000
NORTH_LATITUDE: 46 56 15.00000
SOUTH_LATITUDE: 46 52 30.00000
PRODUCTION_DATE: 2000 5 24
RASTER_ORDER: LEFT_RIGHT/TOP_BOTTOM
BAND_ORGANIZATION: SINGLE FILE
BAND_CONTENT: BLACK&WHITE
BAND_CONTENT: UNDEFINED
BAND_CONTENT: UNDEFINED
BITS_PER_PIXEL: 8
SAMPLES_AND_LINES: 5599 7669
HORIZONTAL_DATUM: NAD83
HORIZONTAL_COORDINATE_SYSTEM: UTM
COORDINATE_ZONE: 12
HORIZONTAL_UNITS: METERS
HORIZONTAL_RESOLUTION: 1.00000
SECONDARY_HORIZONTAL_DATUM: NAD27
XY_ORIGIN: 351990.00000 5200341.00000
SECONDARY_XY_ORIGIN: 352052.94100 5200127.73000
NATION: US
NATION: "SCIENCE
STATE: MT
NW_QUAD_CORNER_XY: 352530.63000 5200040.78400
NE_QUAD_CORNER_XY: 357287.59100 5199925.11000
SE_QUAD_CORNERY_XY: 357121.56700 5192980.06900
SW_QUAD_CORNER_XY: 352359.06700 5193095.75900
SECONDARY_NW_QUAD_XY: 352526.09100 5199822.33400
SECONDARY_NE_QUAD_XY: 357283.19900 5199706.65700
SECONDARY_SE_QUAD_XY: 357117.17500 5192761.64600
SECONDARY_SW_QUAD_XY: 352354.52900 5192877.33900
RMSE_XY: 1.30000
IMAGE_SOURCE: BLACK AND WHITE FILM
SOURCE_IMAGE_ID: NAPP 9491 081
SOURCE_IMAGE_DATE: 1995 09 01
SOURCE_IMAGE_ID: NAPP 9489 054
SOURCE_IMAGE_DATE: 1995 08 28
SOURCE_IMAGE_ID: NAPP 9491 080
SOURCE_IMAGE_DATE: 1995 09 01
SOURCE_DEM_DATE: 1968 00 00
AGENCY: WESTERN MAPPING CENTER (WMC)
PRODUCER: UNDEFINED
PRODUCTION_SYSTEM: GIS/MAGIC
COMPRESSION: UNDEFINED
STANDARD_VERSION: 1996 12
METADATA_DATE: 2000 05 27
DATA_FILE_SIZE: 42944330
BYTE_COUNT: 5599
