FILENAME: O4611201.SWS.1078914.tif
QUADRANGLE_NAME: MARCUM MOUNTAIN
QUADRANT: SW
WEST_LONGITUDE: -113 0 0.00000
EAST_LONGITUDE: -112 56 15.00000
NORTH_LATITUDE: 46 56 15.00000
SOUTH_LATITUDE: 46 52 30.00000
PRODUCTION_DATE: 2000 5 24
RASTER_ORDER: LEFT_RIGHT/TOP_BOTTOM
BAND_ORGANIZATION: SINGLE FILE
BAND_CONTENT: BLACK&WHITE
BAND_CONTENT: UNDEFINED
BAND_CONTENT: UNDEFINED
BITS_PER_PIXEL: 8
SAMPLES_AND_LINES: 5605 7673
HORIZONTAL_DATUM: NAD83
HORIZONTAL_COORDINATE_SYSTEM: UTM
COORDINATE_ZONE: 12
HORIZONTAL_UNITS: METERS
HORIZONTAL_RESOLUTION: 1.00000
SECONDARY_HORIZONTAL_DATUM: NAD27
XY_ORIGIN: 347227.00000 5200461.00000
SECONDARY_XY_ORIGIN: 347289.96800 5200247.70800
NATION: US
NATION: "SCIENCE
STATE: MT
NW_QUAD_CORNER_XY: 347773.68000 5200160.25200
NE_QUAD_CORNER_XY: 352530.63000 5200040.78400
SE_QUAD_CORNERY_XY: 352359.06700 5193095.75900
SW_QUAD_CORNER_XY: 347596.57900 5193215.24500
SECONDARY_NW_QUAD_XY: 347768.99400 5199941.80600
SECONDARY_NE_QUAD_XY: 352526.09100 5199822.33400
SECONDARY_SE_QUAD_XY: 352354.52900 5192877.33900
SECONDARY_SW_QUAD_XY: 347591.89400 5192996.82800
RMSE_XY: 1.10000
IMAGE_SOURCE: BLACK AND WHITE FILM
SOURCE_IMAGE_ID: NAPP 9489 014
SOURCE_IMAGE_DATE: 1995 08 28
SOURCE_IMAGE_ID: NAPP 8399 030
SOURCE_IMAGE_DATE: 1995 08 28
SOURCE_IMAGE_ID: NAPP 9489 015
SOURCE_IMAGE_DATE: 1995 08 28
SOURCE_DEM_DATE: 1968 00 00
AGENCY: WESTERN MAPPING CENTER (WMC)
PRODUCER: UNDEFINED
PRODUCTION_SYSTEM: GIS/MAGIC
COMPRESSION: UNDEFINED
STANDARD_VERSION: 1996 12
METADATA_DATE: 2000 05 27
DATA_FILE_SIZE: 43012770
BYTE_COUNT: 5605
