FILENAME: O4611363.NES.1077016.tif
QUADRANGLE_NAME: MOUNT EVANS
QUADRANT: NE
WEST_LONGITUDE: -113 11 15.00000
EAST_LONGITUDE: -113 7 30.00000
NORTH_LATITUDE: 46 7 30.00000
SOUTH_LATITUDE: 46 3 45.00000
PRODUCTION_DATE: 2000 4 20
RASTER_ORDER: LEFT_RIGHT/TOP_BOTTOM
BAND_ORGANIZATION: SINGLE FILE
BAND_CONTENT: BLACK&WHITE
BAND_CONTENT: UNDEFINED
BAND_CONTENT: UNDEFINED
BITS_PER_PIXEL: 8
SAMPLES_AND_LINES: 5691 7685
HORIZONTAL_DATUM: NAD83
HORIZONTAL_COORDINATE_SYSTEM: UTM
COORDINATE_ZONE: 12
HORIZONTAL_UNITS: METERS
HORIZONTAL_RESOLUTION: 1.00000
SECONDARY_HORIZONTAL_DATUM: NAD27
XY_ORIGIN: 330439.00000 5110563.00000
SECONDARY_XY_ORIGIN: 330502.62600 5110351.45000
NATION: US
NATION: "SCIENCE
STATE: MT
NW_QUAD_CORNER_XY: 331000.20300 5110262.12500
NE_QUAD_CORNER_XY: 335828.68300 5110131.07400
SE_QUAD_CORNERY_XY: 335643.04200 5103186.95700
SW_QUAD_CORNER_XY: 330809.09700 5103318.01900
SECONDARY_NW_QUAD_XY: 330995.09000 5110044.14100
SECONDARY_NE_QUAD_XY: 335823.71600 5109913.08700
SECONDARY_SE_QUAD_XY: 335638.07700 5102969.01100
SECONDARY_SW_QUAD_XY: 330803.98600 5103100.07600
RMSE_XY: 2.30000
IMAGE_SOURCE: BLACK AND WHITE FILM
SOURCE_IMAGE_ID: NAPP 8402 006
SOURCE_IMAGE_DATE: 1995 09 02
SOURCE_IMAGE_ID: NAPP 8393 191
SOURCE_IMAGE_DATE: 1995 08 19
SOURCE_IMAGE_ID: NAPP 8393 276
SOURCE_IMAGE_DATE: 1995 08 19
SOURCE_IMAGE_ID: NAPP 8393 278
SOURCE_IMAGE_DATE: 1995 08 19
SOURCE_IMAGE_ID: NAPP 8402 007
SOURCE_IMAGE_DATE: 1995 09 02
SOURCE_DEM_DATE: 1971 00 00
AGENCY: WESTERN MAPPING CENTER (WMC)
PRODUCER: UNDEFINED
PRODUCTION_SYSTEM: GIS/MAGIC
COMPRESSION: UNDEFINED
STANDARD_VERSION: 1996 12
METADATA_DATE: 2000 05 30
DATA_FILE_SIZE: 43741026
BYTE_COUNT: 5691
