FILENAME: O4611363.NWS.1077017.tif
QUADRANGLE_NAME: MOUNT EVANS
QUADRANT: NW
WEST_LONGITUDE: -113 15 0.00000
EAST_LONGITUDE: -113 11 15.00000
NORTH_LATITUDE: 46 7 30.00000
SOUTH_LATITUDE: 46 3 45.00000
PRODUCTION_DATE: 2000 4 20
RASTER_ORDER: LEFT_RIGHT/TOP_BOTTOM
BAND_ORGANIZATION: SINGLE FILE
BAND_CONTENT: BLACK&WHITE
BAND_CONTENT: UNDEFINED
BAND_CONTENT: UNDEFINED
BITS_PER_PIXEL: 8
SAMPLES_AND_LINES: 5697 7688
HORIZONTAL_DATUM: NAD83
HORIZONTAL_COORDINATE_SYSTEM: UTM
COORDINATE_ZONE: 12
HORIZONTAL_UNITS: METERS
HORIZONTAL_RESOLUTION: 1.00000
SECONDARY_HORIZONTAL_DATUM: NAD27
XY_ORIGIN: 325605.00000 5110697.00000
SECONDARY_XY_ORIGIN: 325668.73400 5110485.42500
NATION: US
NATION: "SCIENCE
STATE: MT
NW_QUAD_CORNER_XY: 326171.73100 5110396.97800
NE_QUAD_CORNER_XY: 331000.20300 5110262.12500
SE_QUAD_CORNERY_XY: 330809.09700 5103318.01900
SW_QUAD_CORNER_XY: 325975.16000 5103452.88300
SECONDARY_NW_QUAD_XY: 326166.47200 5110178.99900
SECONDARY_NE_QUAD_XY: 330995.09000 5110044.14100
SECONDARY_SE_QUAD_XY: 330803.98600 5103100.07600
SECONDARY_SW_QUAD_XY: 325969.90200 5103234.94400
RMSE_XY: 3.50000
IMAGE_SOURCE: BLACK AND WHITE FILM
SOURCE_IMAGE_ID: NAPP 8393 190
SOURCE_IMAGE_DATE: 1995 08 19
SOURCE_IMAGE_ID: NAPP 8404 093
SOURCE_IMAGE_DATE: 1995 09 12
SOURCE_IMAGE_ID: NAPP 8393 191
SOURCE_IMAGE_DATE: 1995 08 19
SOURCE_IMAGE_ID: NAPP 8393 189
SOURCE_IMAGE_DATE: 1995 08 19
SOURCE_IMAGE_ID: NAPP 8393 276
SOURCE_IMAGE_DATE: 1995 08 19
SOURCE_DEM_DATE: 1971 00 00
AGENCY: WESTERN MAPPING CENTER (WMC)
PRODUCER: UNDEFINED
PRODUCTION_SYSTEM: GIS/MAGIC
COMPRESSION: UNDEFINED
STANDARD_VERSION: 1996 12
METADATA_DATE: 2000 05 30
DATA_FILE_SIZE: 43804233
BYTE_COUNT: 5697
