FILENAME: O4611363.SES.1077018.tif
QUADRANGLE_NAME: MOUNT EVANS
QUADRANT: SE
WEST_LONGITUDE: -113 11 15.00000
EAST_LONGITUDE: -113 7 30.00000
NORTH_LATITUDE: 46 3 45.00000
SOUTH_LATITUDE: 46 0 0.00000
PRODUCTION_DATE: 2000 4 20
RASTER_ORDER: LEFT_RIGHT/TOP_BOTTOM
BAND_ORGANIZATION: SINGLE FILE
BAND_CONTENT: BLACK&WHITE
BAND_CONTENT: UNDEFINED
BAND_CONTENT: UNDEFINED
BITS_PER_PIXEL: 8
SAMPLES_AND_LINES: 5697 7685
HORIZONTAL_DATUM: NAD83
HORIZONTAL_COORDINATE_SYSTEM: UTM
COORDINATE_ZONE: 12
HORIZONTAL_UNITS: METERS
HORIZONTAL_RESOLUTION: 1.00000
SECONDARY_HORIZONTAL_DATUM: NAD27
XY_ORIGIN: 330248.00000 5103619.00000
SECONDARY_XY_ORIGIN: 330311.63500 5103407.53100
NATION: US
NATION: "SCIENCE
STATE: MT
NW_QUAD_CORNER_XY: 330809.09700 5103318.01900
NE_QUAD_CORNER_XY: 335643.04200 5103186.95700
SE_QUAD_CORNERY_XY: 335457.59900 5096242.90700
SW_QUAD_CORNER_XY: 330618.19400 5096373.97800
SECONDARY_NW_QUAD_XY: 330803.98600 5103100.07600
SECONDARY_NE_QUAD_XY: 335638.07700 5102969.01100
SECONDARY_SE_QUAD_XY: 335452.63400 5096025.00200
SECONDARY_SW_QUAD_XY: 330613.08400 5096156.07700
RMSE_XY: 2.30000
IMAGE_SOURCE: BLACK AND WHITE FILM
SOURCE_IMAGE_ID: NAPP 8393 275
SOURCE_IMAGE_DATE: 1995 08 19
SOURCE_IMAGE_ID: NAPP 8393 191
SOURCE_IMAGE_DATE: 1995 08 19
SOURCE_IMAGE_ID: NAPP 8393 274
SOURCE_IMAGE_DATE: 1995 08 19
SOURCE_IMAGE_ID: NAPP 8393 276
SOURCE_IMAGE_DATE: 1995 08 19
SOURCE_DEM_DATE: 1971 00 00
AGENCY: WESTERN MAPPING CENTER (WMC)
PRODUCER: UNDEFINED
PRODUCTION_SYSTEM: GIS/MAGIC
COMPRESSION: UNDEFINED
STANDARD_VERSION: 1996 12
METADATA_DATE: 2000 05 30
DATA_FILE_SIZE: 43787142
BYTE_COUNT: 5697
