FILENAME: O4611362.SES.1074893.tif
QUADRANGLE_NAME: STORM LAKE
QUADRANT: SE
WEST_LONGITUDE: -113 18 45.00000
EAST_LONGITUDE: -113 15 0.00000
NORTH_LATITUDE: 46 3 45.00000
SOUTH_LATITUDE: 46 0 0.00000
PRODUCTION_DATE: 2000 5 18
RASTER_ORDER: LEFT_RIGHT/TOP_BOTTOM
BAND_ORGANIZATION: SINGLE FILE
BAND_CONTENT: BLACK&WHITE
BAND_CONTENT: UNDEFINED
BAND_CONTENT: UNDEFINED
BITS_PER_PIXEL: 8
SAMPLES_AND_LINES: 5708 7692
HORIZONTAL_DATUM: NAD83
HORIZONTAL_COORDINATE_SYSTEM: UTM
COORDINATE_ZONE: 12
HORIZONTAL_UNITS: METERS
HORIZONTAL_RESOLUTION: 1.00000
SECONDARY_HORIZONTAL_DATUM: NAD27
XY_ORIGIN: 320569.00000 5103892.00000
SECONDARY_XY_ORIGIN: 320632.82500 5103680.48600
NATION: US
NATION: "SCIENCE
STATE: MT
NW_QUAD_CORNER_XY: 321141.23000 5103591.55000
NE_QUAD_CORNER_XY: 325975.16000 5103452.88300
SE_QUAD_CORNERY_XY: 325778.79700 5096508.85300
SW_QUAD_CORNER_XY: 320939.40700 5096647.53000
SECONDARY_NW_QUAD_XY: 321135.82600 5103373.61500
SECONDARY_NE_QUAD_XY: 325969.90200 5103234.94400
SECONDARY_SE_QUAD_XY: 325773.54100 5096290.95600
SECONDARY_SW_QUAD_XY: 320934.00500 5096429.63700
RMSE_XY: 1.00000
IMAGE_SOURCE: BLACK AND WHITE FILM
SOURCE_IMAGE_ID: NAPP 8393 191
SOURCE_IMAGE_DATE: 1995 08 19
SOURCE_IMAGE_ID: NAPP 8404 100
SOURCE_IMAGE_DATE: 1995 09 12
SOURCE_IMAGE_ID: NAPP 8391 157
SOURCE_IMAGE_DATE: 1995 08 01
SOURCE_IMAGE_ID: NAPP 8404 093
SOURCE_IMAGE_DATE: 1995 09 12
SOURCE_IMAGE_ID: NAPP 8393 193
SOURCE_IMAGE_DATE: 1995 08 19
SOURCE_DEM_DATE: 1997 00 00
AGENCY: WESTERN MAPPING CENTER (WMC)
PRODUCER: UNDEFINED
PRODUCTION_SYSTEM: GIS/MAGIC
COMPRESSION: UNDEFINED
STANDARD_VERSION: 1996 12
METADATA_DATE: 2000 05 25
DATA_FILE_SIZE: 43911644
BYTE_COUNT: 5708
