FILENAME: O4611360.NES.1074851.tif
QUADRANGLE_NAME: MOOSE LAKE
QUADRANT: NE
WEST_LONGITUDE: -113 33 45.00000
EAST_LONGITUDE: -113 30 0.00000
NORTH_LATITUDE: 46 7 30.00000
SOUTH_LATITUDE: 46 3 45.00000
PRODUCTION_DATE: 2000 4 14
RASTER_ORDER: LEFT_RIGHT/TOP_BOTTOM
BAND_ORGANIZATION: SINGLE FILE
BAND_CONTENT: BLACK&WHITE
BAND_CONTENT: UNDEFINED
BAND_CONTENT: UNDEFINED
BITS_PER_PIXEL: 8
SAMPLES_AND_LINES: 5725 7707
HORIZONTAL_DATUM: NAD83
HORIZONTAL_COORDINATE_SYSTEM: UTM
COORDINATE_ZONE: 12
HORIZONTAL_UNITS: METERS
HORIZONTAL_RESOLUTION: 1.00000
SECONDARY_HORIZONTAL_DATUM: NAD27
XY_ORIGIN: 301434.00000 5111429.00000
SECONDARY_XY_ORIGIN: 301498.22700 5111217.35500
NATION: US
NATION: "SCIENCE
STATE: MT
NW_QUAD_CORNER_XY: 302029.49400 5111128.28600
NE_QUAD_CORNER_XY: 306857.92400 5110974.41700
SE_QUAD_CORNERY_XY: 306639.48700 5104030.37000
SW_QUAD_CORNER_XY: 301805.58900 5104184.25100
SECONDARY_NW_QUAD_XY: 302023.50400 5110910.32900
SECONDARY_NE_QUAD_XY: 306852.08000 5110756.45600
SECONDARY_SE_QUAD_XY: 306633.64500 5103812.44900
SECONDARY_SW_QUAD_XY: 301799.60100 5103966.33400
RMSE_XY: 3.10000
IMAGE_SOURCE: BLACK AND WHITE FILM
SOURCE_IMAGE_ID: NAPP 8391 240
SOURCE_IMAGE_DATE: 1995 08 01
SOURCE_IMAGE_ID: NAPP 8391 241
SOURCE_IMAGE_DATE: 1995 08 01
SOURCE_DEM_DATE: 1997 00 00
AGENCY: WESTERN MAPPING CENTER (WMC)
PRODUCER: UNDEFINED
PRODUCTION_SYSTEM: GIS/MAGIC
COMPRESSION: UNDEFINED
STANDARD_VERSION: 1996 12
METADATA_DATE: 2000 05 25
DATA_FILE_SIZE: 44128300
BYTE_COUNT: 5725
