FILENAME: O4611358.NES.1074799.tif
QUADRANGLE_NAME: KENT PEAK
QUADRANT: NE
WEST_LONGITUDE: -113 48 45.00000
EAST_LONGITUDE: -113 45 0.00000
NORTH_LATITUDE: 46 7 30.00000
SOUTH_LATITUDE: 46 3 45.00000
PRODUCTION_DATE: 2000 4 13
RASTER_ORDER: LEFT_RIGHT/TOP_BOTTOM
BAND_ORGANIZATION: SINGLE FILE
BAND_CONTENT: BLACK&WHITE
BAND_CONTENT: UNDEFINED
BAND_CONTENT: UNDEFINED
BITS_PER_PIXEL: 8
SAMPLES_AND_LINES: 5748 7722
HORIZONTAL_DATUM: NAD83
HORIZONTAL_COORDINATE_SYSTEM: UTM
COORDINATE_ZONE: 12
HORIZONTAL_UNITS: METERS
HORIZONTAL_RESOLUTION: 1.00000
SECONDARY_HORIZONTAL_DATUM: NAD27
XY_ORIGIN: 282098.00000 5112082.00000
SECONDARY_XY_ORIGIN: 282162.40600 5111870.25300
NATION: US
NATION: "SCIENCE
STATE: MT
NW_QUAD_CORNER_XY: 282715.86700 5111781.80400
NE_QUAD_CORNER_XY: 287544.25900 5111612.71700
SE_QUAD_CORNERY_XY: 287303.94800 5104668.72200
SW_QUAD_CORNER_XY: 282470.08600 5104837.82200
SECONDARY_NW_QUAD_XY: 282709.29300 5111563.86700
SECONDARY_NE_QUAD_XY: 287537.83100 5111394.77500
SECONDARY_SE_QUAD_XY: 287297.52200 5104450.82000
SECONDARY_SW_QUAD_XY: 282463.51300 5104619.92600
RMSE_XY: 3.00000
IMAGE_SOURCE: BLACK AND WHITE FILM
SOURCE_IMAGE_ID: NAPP 8389 181
SOURCE_IMAGE_DATE: 1995 07 31
SOURCE_IMAGE_ID: NAPP 8389 182
SOURCE_IMAGE_DATE: 1995 07 31
SOURCE_DEM_DATE: 1997 00 00
AGENCY: WESTERN MAPPING CENTER (WMC)
PRODUCER: UNDEFINED
PRODUCTION_SYSTEM: GIS/MAGIC
COMPRESSION: UNDEFINED
STANDARD_VERSION: 1996 12
METADATA_DATE: 2000 05 25
DATA_FILE_SIZE: 44391804
BYTE_COUNT: 5748
