FILENAME: O4611358.NWS.1074800.tif
QUADRANGLE_NAME: KENT PEAK
QUADRANT: NW
WEST_LONGITUDE: -113 52 30.00000
EAST_LONGITUDE: -113 48 45.00000
NORTH_LATITUDE: 46 7 30.00000
SOUTH_LATITUDE: 46 3 45.00000
PRODUCTION_DATE: 2000 4 13
RASTER_ORDER: LEFT_RIGHT/TOP_BOTTOM
BAND_ORGANIZATION: SINGLE FILE
BAND_CONTENT: BLACK&WHITE
BAND_CONTENT: UNDEFINED
BAND_CONTENT: UNDEFINED
BITS_PER_PIXEL: 8
SAMPLES_AND_LINES: 5753 7726
HORIZONTAL_DATUM: NAD83
HORIZONTAL_COORDINATE_SYSTEM: UTM
COORDINATE_ZONE: 12
HORIZONTAL_UNITS: METERS
HORIZONTAL_RESOLUTION: 1.00000
SECONDARY_HORIZONTAL_DATUM: NAD27
XY_ORIGIN: 277264.00000 5112255.00000
SECONDARY_XY_ORIGIN: 277328.39600 5112043.21600
NATION: US
NATION: "SCIENCE
STATE: MT
NW_QUAD_CORNER_XY: 277887.48500 5111954.69600
NE_QUAD_CORNER_XY: 282715.86700 5111781.80400
SE_QUAD_CORNERY_XY: 282470.08600 5104837.82200
SW_QUAD_CORNER_XY: 277636.23300 5105010.72900
SECONDARY_NW_QUAD_XY: 277880.76500 5111736.76400
SECONDARY_NE_QUAD_XY: 282709.29300 5111563.86700
SECONDARY_SE_QUAD_XY: 282463.51300 5104619.92600
SECONDARY_SW_QUAD_XY: 277629.51500 5104792.83800
RMSE_XY: 1.90000
IMAGE_SOURCE: BLACK AND WHITE FILM
SOURCE_IMAGE_ID: NAPP 8404 153
SOURCE_IMAGE_DATE: 1995 09 12
SOURCE_IMAGE_ID: NAPP 8389 082
SOURCE_IMAGE_DATE: 1995 07 31
SOURCE_IMAGE_ID: NAPP 8404 154
SOURCE_IMAGE_DATE: 1995 09 12
SOURCE_DEM_DATE: 1997 00 00
AGENCY: WESTERN MAPPING CENTER (WMC)
PRODUCER: UNDEFINED
PRODUCTION_SYSTEM: GIS/MAGIC
COMPRESSION: UNDEFINED
STANDARD_VERSION: 1996 12
METADATA_DATE: 2000 05 25
DATA_FILE_SIZE: 44453431
BYTE_COUNT: 5753
