FILENAME: O4611355.NES.1077040.tif
QUADRANGLE_NAME: SILVER LAKE
QUADRANT: NE
WEST_LONGITUDE: -113 11 15.00000
EAST_LONGITUDE: -113 7 30.00000
NORTH_LATITUDE: 46 15 0.00000
SOUTH_LATITUDE: 46 11 15.00000
PRODUCTION_DATE: 2000 5 1
RASTER_ORDER: LEFT_RIGHT/TOP_BOTTOM
BAND_ORGANIZATION: SINGLE FILE
BAND_CONTENT: BLACK&WHITE
BAND_CONTENT: UNDEFINED
BAND_CONTENT: UNDEFINED
BITS_PER_PIXEL: 8
SAMPLES_AND_LINES: 5681 7685
HORIZONTAL_DATUM: NAD83
HORIZONTAL_COORDINATE_SYSTEM: UTM
COORDINATE_ZONE: 12
HORIZONTAL_UNITS: METERS
HORIZONTAL_RESOLUTION: 1.00000
SECONDARY_HORIZONTAL_DATUM: NAD27
XY_ORIGIN: 330821.00000 5124451.00000
SECONDARY_XY_ORIGIN: 330884.60700 5124239.29000
NATION: US
NATION: "SCIENCE
STATE: MT
NW_QUAD_CORNER_XY: 331383.02000 5124150.53200
NE_QUAD_CORNER_XY: 336200.55300 5124019.50400
SE_QUAD_CORNERY_XY: 336014.52000 5117075.25600
SW_QUAD_CORNER_XY: 331191.51000 5117206.29600
SECONDARY_NW_QUAD_XY: 331377.90600 5123932.47000
SECONDARY_NE_QUAD_XY: 336195.58400 5123801.43800
SECONDARY_SE_QUAD_XY: 336009.55200 5116857.22900
SECONDARY_SW_QUAD_XY: 331186.39700 5116988.27300
RMSE_XY: 2.30000
IMAGE_SOURCE: BLACK AND WHITE FILM
SOURCE_IMAGE_ID: NAPP 8393 281
SOURCE_IMAGE_DATE: 1995 08 19
SOURCE_IMAGE_ID: NAPP 8393 186
SOURCE_IMAGE_DATE: 1995 08 19
SOURCE_IMAGE_ID: NAPP 8393 282
SOURCE_IMAGE_DATE: 1995 08 19
SOURCE_IMAGE_ID: NAPP 8402 003
SOURCE_IMAGE_DATE: 1995 09 02
SOURCE_DEM_DATE: 1971 00 00
AGENCY: WESTERN MAPPING CENTER (WMC)
PRODUCER: UNDEFINED
PRODUCTION_SYSTEM: GIS/MAGIC
COMPRESSION: UNDEFINED
STANDARD_VERSION: 1996 12
METADATA_DATE: 2000 05 30
DATA_FILE_SIZE: 43664166
BYTE_COUNT: 5681
