FILENAME: O4611355.NWS.1077042.tif
QUADRANGLE_NAME: SILVER LAKE
QUADRANT: NW
WEST_LONGITUDE: -113 15 0.00000
EAST_LONGITUDE: -113 11 15.00000
NORTH_LATITUDE: 46 15 0.00000
SOUTH_LATITUDE: 46 11 15.00000
PRODUCTION_DATE: 2000 4 28
RASTER_ORDER: LEFT_RIGHT/TOP_BOTTOM
BAND_ORGANIZATION: SINGLE FILE
BAND_CONTENT: BLACK&WHITE
BAND_CONTENT: UNDEFINED
BAND_CONTENT: UNDEFINED
BITS_PER_PIXEL: 8
SAMPLES_AND_LINES: 5687 7689
HORIZONTAL_DATUM: NAD83
HORIZONTAL_COORDINATE_SYSTEM: UTM
COORDINATE_ZONE: 12
HORIZONTAL_UNITS: METERS
HORIZONTAL_RESOLUTION: 1.00000
SECONDARY_HORIZONTAL_DATUM: NAD27
XY_ORIGIN: 325998.00000 5124586.00000
SECONDARY_XY_ORIGIN: 326061.74500 5124374.27600
NATION: US
NATION: "SCIENCE
STATE: MT
NW_QUAD_CORNER_XY: 326565.49600 5124285.36100
NE_QUAD_CORNER_XY: 331383.02000 5124150.53200
SE_QUAD_CORNERY_XY: 331191.51000 5117206.29600
SW_QUAD_CORNER_XY: 326368.50900 5117341.13700
SECONDARY_NW_QUAD_XY: 326560.23500 5124067.30300
SECONDARY_NE_QUAD_XY: 331377.90600 5123932.47000
SECONDARY_SE_QUAD_XY: 331186.39700 5116988.27300
SECONDARY_SW_QUAD_XY: 326363.25000 5117123.11800
RMSE_XY: 2.70000
IMAGE_SOURCE: BLACK AND WHITE FILM
SOURCE_IMAGE_ID: NAPP 8393 186
SOURCE_IMAGE_DATE: 1995 08 19
SOURCE_IMAGE_ID: NAPP 8391 160
SOURCE_IMAGE_DATE: 1995 08 01
SOURCE_IMAGE_ID: NAPP 8393 187
SOURCE_IMAGE_DATE: 1995 08 19
SOURCE_DEM_DATE: 1971 00 00
AGENCY: WESTERN MAPPING CENTER (WMC)
PRODUCER: UNDEFINED
PRODUCTION_SYSTEM: GIS/MAGIC
COMPRESSION: UNDEFINED
STANDARD_VERSION: 1996 12
METADATA_DATE: 2000 05 30
DATA_FILE_SIZE: 43733030
BYTE_COUNT: 5687
