FILENAME: O4611354.NWS.1077005.tif
QUADRANGLE_NAME: GEORGETOWN LAKE
QUADRANT: NW
WEST_LONGITUDE: -113 22 30.00000
EAST_LONGITUDE: -113 18 45.00000
NORTH_LATITUDE: 46 15 0.00000
SOUTH_LATITUDE: 46 11 15.00000
PRODUCTION_DATE: 2000 5 30
RASTER_ORDER: LEFT_RIGHT/TOP_BOTTOM
BAND_ORGANIZATION: SINGLE FILE
BAND_CONTENT: BLACK&WHITE
BAND_CONTENT: UNDEFINED
BAND_CONTENT: UNDEFINED
BITS_PER_PIXEL: 8
SAMPLES_AND_LINES: 5697 7696
HORIZONTAL_DATUM: NAD83
HORIZONTAL_COORDINATE_SYSTEM: UTM
COORDINATE_ZONE: 12
HORIZONTAL_UNITS: METERS
HORIZONTAL_RESOLUTION: 1.00000
SECONDARY_HORIZONTAL_DATUM: NAD27
XY_ORIGIN: 316352.00000 5124867.00000
SECONDARY_XY_ORIGIN: 316416.00400 5124655.26800
NATION: US
NATION: "SCIENCE
STATE: MT
NW_QUAD_CORNER_XY: 316930.47500 5124566.42500
NE_QUAD_CORNER_XY: 321747.98100 5124423.99200
SE_QUAD_CORNERY_XY: 321545.51700 5117479.78100
SW_QUAD_CORNER_XY: 316722.53300 5117622.22700
SECONDARY_NW_QUAD_XY: 316924.92200 5124348.37600
SECONDARY_NE_QUAD_XY: 321742.57400 5124205.93800
SECONDARY_SE_QUAD_XY: 321540.11100 5117261.76600
SECONDARY_SW_QUAD_XY: 316716.98100 5117404.21600
RMSE_XY: 2.00000
IMAGE_SOURCE: BLACK AND WHITE FILM
SOURCE_IMAGE_ID: NAPP 8390 039
SOURCE_IMAGE_DATE: 1995 07 31
SOURCE_IMAGE_ID: NAPP 8390 038
SOURCE_IMAGE_DATE: 1995 07 31
SOURCE_IMAGE_ID: NAPP 8390 040
SOURCE_IMAGE_DATE: 1995 07 31
SOURCE_DEM_DATE: 1988 00 00
AGENCY: WESTERN MAPPING CENTER (WMC)
PRODUCER: UNDEFINED
PRODUCTION_SYSTEM: GIS/MAGIC
COMPRESSION: UNDEFINED
STANDARD_VERSION: 1996 12
METADATA_DATE: 2000 05 30
DATA_FILE_SIZE: 43849809
BYTE_COUNT: 5697
