FILENAME: O4611353.NES.1074871.tif
QUADRANGLE_NAME: POTATO LAKES
QUADRANT: NE
WEST_LONGITUDE: -113 26 15.00000
EAST_LONGITUDE: -113 22 30.00000
NORTH_LATITUDE: 46 15 0.00000
SOUTH_LATITUDE: 46 11 15.00000
PRODUCTION_DATE: 2000 4 27
RASTER_ORDER: LEFT_RIGHT/TOP_BOTTOM
BAND_ORGANIZATION: SINGLE FILE
BAND_CONTENT: BLACK&WHITE
BAND_CONTENT: UNDEFINED
BAND_CONTENT: UNDEFINED
BITS_PER_PIXEL: 8
SAMPLES_AND_LINES: 5704 7700
HORIZONTAL_DATUM: NAD83
HORIZONTAL_COORDINATE_SYSTEM: UTM
COORDINATE_ZONE: 12
HORIZONTAL_UNITS: METERS
HORIZONTAL_RESOLUTION: 1.00000
SECONDARY_HORIZONTAL_DATUM: NAD27
XY_ORIGIN: 311528.00000 5125013.00000
SECONDARY_XY_ORIGIN: 311592.13300 5124801.26300
NATION: US
NATION: "SCIENCE
STATE: MT
NW_QUAD_CORNER_XY: 312112.97800 5124712.66000
NE_QUAD_CORNER_XY: 316930.47500 5124566.42500
SE_QUAD_CORNERY_XY: 316722.53300 5117622.22700
SW_QUAD_CORNER_XY: 311899.55800 5117768.47500
SECONDARY_NW_QUAD_XY: 312107.27900 5124494.61600
SECONDARY_NE_QUAD_XY: 316924.92200 5124348.37600
SECONDARY_SE_QUAD_XY: 316716.98100 5117404.21600
SECONDARY_SW_QUAD_XY: 311893.86000 5117550.46900
RMSE_XY: 2.70000
IMAGE_SOURCE: BLACK AND WHITE FILM
SOURCE_IMAGE_ID: NAPP 8390 032
SOURCE_IMAGE_DATE: 1995 07 31
SOURCE_IMAGE_ID: NAPP 8390 031
SOURCE_IMAGE_DATE: 1995 07 31
SOURCE_DEM_DATE: 1997 00 00
AGENCY: WESTERN MAPPING CENTER (WMC)
PRODUCER: UNDEFINED
PRODUCTION_SYSTEM: GIS/MAGIC
COMPRESSION: UNDEFINED
STANDARD_VERSION: 1996 12
METADATA_DATE: 2000 05 25
DATA_FILE_SIZE: 43926504
BYTE_COUNT: 5704
