FILENAME: O4611348.NES.1077108.tif
QUADRANGLE_NAME: POZEGA LAKES
QUADRANT: NE
WEST_LONGITUDE: -113 3 45.00000
EAST_LONGITUDE: -113 0 0.00000
NORTH_LATITUDE: 46 22 30.00000
SOUTH_LATITUDE: 46 18 45.00000
PRODUCTION_DATE: 2000 5 26
RASTER_ORDER: LEFT_RIGHT/TOP_BOTTOM
BAND_ORGANIZATION: SINGLE FILE
BAND_CONTENT: BLACK&WHITE
BAND_CONTENT: UNDEFINED
BAND_CONTENT: UNDEFINED
BITS_PER_PIXEL: 8
SAMPLES_AND_LINES: 5659 7677
HORIZONTAL_DATUM: NAD83
HORIZONTAL_COORDINATE_SYSTEM: UTM
COORDINATE_ZONE: 12
HORIZONTAL_UNITS: METERS
HORIZONTAL_RESOLUTION: 1.00000
SECONDARY_HORIZONTAL_DATUM: NAD27
XY_ORIGIN: 340829.00000 5138081.00000
SECONDARY_XY_ORIGIN: 340892.47000 5137869.17200
NATION: US
NATION: "SCIENCE
STATE: MT
NW_QUAD_CORNER_XY: 341379.77900 5137780.99600
NE_QUAD_CORNER_XY: 346186.36000 5137657.59500
SE_QUAD_CORNERY_XY: 346010.90900 5130713.19000
SW_QUAD_CORNER_XY: 341198.84200 5130836.60400
SECONDARY_NW_QUAD_XY: 341374.95500 5137562.85100
SECONDARY_NE_QUAD_XY: 346181.68200 5137439.44600
SECONDARY_SE_QUAD_XY: 346006.23200 5130495.07800
SECONDARY_SW_QUAD_XY: 341194.01800 5130618.49600
RMSE_XY: 3.70000
IMAGE_SOURCE: BLACK AND WHITE FILM
SOURCE_IMAGE_ID: NAPP 9485 101
SOURCE_IMAGE_DATE: 1995 08 20
SOURCE_IMAGE_ID: NAPP 8402 047
SOURCE_IMAGE_DATE: 1995 09 02
SOURCE_IMAGE_ID: NAPP 8402 036
SOURCE_IMAGE_DATE: 1995 09 02
SOURCE_IMAGE_ID: NAPP 8402 038
SOURCE_IMAGE_DATE: 1995 09 02
SOURCE_IMAGE_ID: NAPP 9485 102
SOURCE_IMAGE_DATE: 1995 08 20
SOURCE_DEM_DATE: 1997 00 00
AGENCY: WESTERN MAPPING CENTER (WMC)
PRODUCER: UNDEFINED
PRODUCTION_SYSTEM: GIS/MAGIC
COMPRESSION: UNDEFINED
STANDARD_VERSION: 1996 12
METADATA_DATE: 2000 05 30
DATA_FILE_SIZE: 43449802
BYTE_COUNT: 5659
