FILENAME: O4611348.NWS.1077110.tif
QUADRANGLE_NAME: POZEGA LAKES
QUADRANT: NW
WEST_LONGITUDE: -113 7 30.00000
EAST_LONGITUDE: -113 3 45.00000
NORTH_LATITUDE: 46 22 30.00000
SOUTH_LATITUDE: 46 18 45.00000
PRODUCTION_DATE: 2000 5 26
RASTER_ORDER: LEFT_RIGHT/TOP_BOTTOM
BAND_ORGANIZATION: SINGLE FILE
BAND_CONTENT: BLACK&WHITE
BAND_CONTENT: UNDEFINED
BAND_CONTENT: UNDEFINED
BITS_PER_PIXEL: 8
SAMPLES_AND_LINES: 5664 7681
HORIZONTAL_DATUM: NAD83
HORIZONTAL_COORDINATE_SYSTEM: UTM
COORDINATE_ZONE: 12
HORIZONTAL_UNITS: METERS
HORIZONTAL_RESOLUTION: 1.00000
SECONDARY_HORIZONTAL_DATUM: NAD27
XY_ORIGIN: 336017.00000 5138209.00000
SECONDARY_XY_ORIGIN: 336080.60900 5137997.15100
NATION: US
NATION: "SCIENCE
STATE: MT
NW_QUAD_CORNER_XY: 336573.20800 5137908.19800
NE_QUAD_CORNER_XY: 341379.77900 5137780.99600
SE_QUAD_CORNERY_XY: 341198.84200 5130836.60400
SW_QUAD_CORNER_XY: 336386.78300 5130963.81800
SECONDARY_NW_QUAD_XY: 336568.23700 5137690.05700
SECONDARY_NE_QUAD_XY: 341374.95500 5137562.85100
SECONDARY_SE_QUAD_XY: 341194.01800 5130618.49600
SECONDARY_SW_QUAD_XY: 336381.81300 5130745.71400
RMSE_XY: 2.60000
IMAGE_SOURCE: BLACK AND WHITE FILM
SOURCE_IMAGE_ID: NAPP 8402 048
SOURCE_IMAGE_DATE: 1995 09 02
SOURCE_IMAGE_ID: NAPP 8402 049
SOURCE_IMAGE_DATE: 1995 09 02
SOURCE_IMAGE_ID: NAPP 8402 047
SOURCE_IMAGE_DATE: 1995 09 02
SOURCE_DEM_DATE: 1997 00 00
AGENCY: WESTERN MAPPING CENTER (WMC)
PRODUCER: UNDEFINED
PRODUCTION_SYSTEM: GIS/MAGIC
COMPRESSION: UNDEFINED
STANDARD_VERSION: 1996 12
METADATA_DATE: 2000 05 30
DATA_FILE_SIZE: 43510848
BYTE_COUNT: 5664
