FILENAME: O4611348.SES.1077112.tif
QUADRANGLE_NAME: POZEGA LAKES
QUADRANT: SE
WEST_LONGITUDE: -113 3 45.00000
EAST_LONGITUDE: -113 0 0.00000
NORTH_LATITUDE: 46 18 45.00000
SOUTH_LATITUDE: 46 15 0.00000
PRODUCTION_DATE: 2000 5 26
RASTER_ORDER: LEFT_RIGHT/TOP_BOTTOM
BAND_ORGANIZATION: SINGLE FILE
BAND_CONTENT: BLACK&WHITE
BAND_CONTENT: UNDEFINED
BAND_CONTENT: UNDEFINED
BITS_PER_PIXEL: 8
SAMPLES_AND_LINES: 5664 7677
HORIZONTAL_DATUM: NAD83
HORIZONTAL_COORDINATE_SYSTEM: UTM
COORDINATE_ZONE: 12
HORIZONTAL_UNITS: METERS
HORIZONTAL_RESOLUTION: 1.00000
SECONDARY_HORIZONTAL_DATUM: NAD27
XY_ORIGIN: 340648.00000 5131137.00000
SECONDARY_XY_ORIGIN: 340711.40600 5130925.24600
NATION: US
NATION: "SCIENCE
STATE: MT
NW_QUAD_CORNER_XY: 341198.84200 5130836.60400
NE_QUAD_CORNER_XY: 346010.90900 5130713.19000
SE_QUAD_CORNERY_XY: 345835.64300 5123768.85200
SW_QUAD_CORNER_XY: 341018.09400 5123892.27800
SECONDARY_NW_QUAD_XY: 341194.01800 5130618.49600
SECONDARY_NE_QUAD_XY: 346006.23200 5130495.07800
SECONDARY_SE_QUAD_XY: 345830.96700 5123550.77800
SECONDARY_SW_QUAD_XY: 341013.27200 5123674.20800
RMSE_XY: 3.60000
IMAGE_SOURCE: BLACK AND WHITE FILM
SOURCE_IMAGE_ID: NAPP 8402 035
SOURCE_IMAGE_DATE: 1995 09 02
SOURCE_IMAGE_ID: NAPP 8402 001
SOURCE_IMAGE_DATE: 1995 09 02
SOURCE_IMAGE_ID: NAPP 8402 034
SOURCE_IMAGE_DATE: 1995 09 02
SOURCE_IMAGE_ID: NAPP 8402 036
SOURCE_IMAGE_DATE: 1995 09 02
SOURCE_DEM_DATE: 1997 00 00
AGENCY: WESTERN MAPPING CENTER (WMC)
PRODUCER: UNDEFINED
PRODUCTION_SYSTEM: GIS/MAGIC
COMPRESSION: UNDEFINED
STANDARD_VERSION: 1996 12
METADATA_DATE: 2000 05 30
DATA_FILE_SIZE: 43488192
BYTE_COUNT: 5664
