FILENAME: O4611348.SWS.1077114.tif
QUADRANGLE_NAME: POZEGA LAKES
QUADRANT: SW
WEST_LONGITUDE: -113 7 30.00000
EAST_LONGITUDE: -113 3 45.00000
NORTH_LATITUDE: 46 18 45.00000
SOUTH_LATITUDE: 46 15 0.00000
PRODUCTION_DATE: 2000 5 26
RASTER_ORDER: LEFT_RIGHT/TOP_BOTTOM
BAND_ORGANIZATION: SINGLE FILE
BAND_CONTENT: BLACK&WHITE
BAND_CONTENT: UNDEFINED
BAND_CONTENT: UNDEFINED
BITS_PER_PIXEL: 8
SAMPLES_AND_LINES: 5669 7681
HORIZONTAL_DATUM: NAD83
HORIZONTAL_COORDINATE_SYSTEM: UTM
COORDINATE_ZONE: 12
HORIZONTAL_UNITS: METERS
HORIZONTAL_RESOLUTION: 1.00000
SECONDARY_HORIZONTAL_DATUM: NAD27
XY_ORIGIN: 335831.00000 5131264.00000
SECONDARY_XY_ORIGIN: 335894.54400 5131052.22900
NATION: US
NATION: "SCIENCE
STATE: MT
NW_QUAD_CORNER_XY: 336386.78300 5130963.81800
NE_QUAD_CORNER_XY: 341198.84200 5130836.60400
SE_QUAD_CORNERY_XY: 341018.09400 5123892.27800
SW_QUAD_CORNER_XY: 336200.55300 5124019.50400
SECONDARY_NW_QUAD_XY: 336381.81300 5130745.71400
SECONDARY_NE_QUAD_XY: 341194.01800 5130618.49600
SECONDARY_SE_QUAD_XY: 341013.27200 5123674.20800
SECONDARY_SW_QUAD_XY: 336195.58400 5123801.43800
RMSE_XY: 2.90000
IMAGE_SOURCE: BLACK AND WHITE FILM
SOURCE_IMAGE_ID: NAPP 8402 050
SOURCE_IMAGE_DATE: 1995 09 02
SOURCE_IMAGE_ID: NAPP 8402 001
SOURCE_IMAGE_DATE: 1995 09 02
SOURCE_IMAGE_ID: NAPP 8402 049
SOURCE_IMAGE_DATE: 1995 09 02
SOURCE_IMAGE_ID: NAPP 8402 036
SOURCE_IMAGE_DATE: 1995 09 02
SOURCE_DEM_DATE: 1997 00 00
AGENCY: WESTERN MAPPING CENTER (WMC)
PRODUCER: UNDEFINED
PRODUCTION_SYSTEM: GIS/MAGIC
COMPRESSION: UNDEFINED
STANDARD_VERSION: 1996 12
METADATA_DATE: 2000 05 30
DATA_FILE_SIZE: 43549258
BYTE_COUNT: 5669
