FILENAME: O4611347.NES.1077036.tif
QUADRANGLE_NAME: FRED BURR LAKE
QUADRANT: NE
WEST_LONGITUDE: -113 11 15.00000
EAST_LONGITUDE: -113 7 30.00000
NORTH_LATITUDE: 46 22 30.00000
SOUTH_LATITUDE: 46 18 45.00000
PRODUCTION_DATE: 2000 5 1
RASTER_ORDER: LEFT_RIGHT/TOP_BOTTOM
BAND_ORGANIZATION: SINGLE FILE
BAND_CONTENT: BLACK&WHITE
BAND_CONTENT: UNDEFINED
BAND_CONTENT: UNDEFINED
BITS_PER_PIXEL: 8
SAMPLES_AND_LINES: 5671 7685
HORIZONTAL_DATUM: NAD83
HORIZONTAL_COORDINATE_SYSTEM: UTM
COORDINATE_ZONE: 12
HORIZONTAL_UNITS: METERS
HORIZONTAL_RESOLUTION: 1.00000
SECONDARY_HORIZONTAL_DATUM: NAD27
XY_ORIGIN: 331204.00000 5138340.00000
SECONDARY_XY_ORIGIN: 331267.74800 5138128.13100
NATION: US
NATION: "SCIENCE
STATE: MT
NW_QUAD_CORNER_XY: 331766.64600 5138039.20000
NE_QUAD_CORNER_XY: 336573.20800 5137908.19800
SE_QUAD_CORNERY_XY: 336386.78300 5130963.81800
SW_QUAD_CORNER_XY: 331574.73200 5131094.83300
SECONDARY_NW_QUAD_XY: 331761.52900 5137821.06300
SECONDARY_NE_QUAD_XY: 336568.23700 5137690.05700
SECONDARY_SE_QUAD_XY: 336381.81300 5130745.71400
SECONDARY_SW_QUAD_XY: 331569.61600 5130876.73300
RMSE_XY: 3.40000
IMAGE_SOURCE: BLACK AND WHITE FILM
SOURCE_IMAGE_ID: NAPP 8393 285
SOURCE_IMAGE_DATE: 1995 08 19
SOURCE_IMAGE_ID: NAPP 8393 180
SOURCE_IMAGE_DATE: 1995 08 19
SOURCE_IMAGE_ID: NAPP 8393 284
SOURCE_IMAGE_DATE: 1995 08 19
SOURCE_IMAGE_ID: NAPP 8393 286
SOURCE_IMAGE_DATE: 1995 08 19
SOURCE_DEM_DATE: 1997 00 00
AGENCY: WESTERN MAPPING CENTER (WMC)
PRODUCER: UNDEFINED
PRODUCTION_SYSTEM: GIS/MAGIC
COMPRESSION: UNDEFINED
STANDARD_VERSION: 1996 12
METADATA_DATE: 2000 05 30
DATA_FILE_SIZE: 43587306
BYTE_COUNT: 5671
