FILENAME: O4611347.SES.1077038.tif
QUADRANGLE_NAME: FRED BURR LAKE
QUADRANT: SE
WEST_LONGITUDE: -113 11 15.00000
EAST_LONGITUDE: -113 7 30.00000
NORTH_LATITUDE: 46 18 45.00000
SOUTH_LATITUDE: 46 15 0.00000
PRODUCTION_DATE: 2000 5 12
RASTER_ORDER: LEFT_RIGHT/TOP_BOTTOM
BAND_ORGANIZATION: SINGLE FILE
BAND_CONTENT: BLACK&WHITE
BAND_CONTENT: UNDEFINED
BAND_CONTENT: UNDEFINED
BITS_PER_PIXEL: 8
SAMPLES_AND_LINES: 5675 7684
HORIZONTAL_DATUM: NAD83
HORIZONTAL_COORDINATE_SYSTEM: UTM
COORDINATE_ZONE: 12
HORIZONTAL_UNITS: METERS
HORIZONTAL_RESOLUTION: 1.00000
SECONDARY_HORIZONTAL_DATUM: NAD27
XY_ORIGIN: 331013.00000 5131395.00000
SECONDARY_XY_ORIGIN: 331076.68200 5131183.21100
NATION: US
NATION: "SCIENCE
STATE: MT
NW_QUAD_CORNER_XY: 331574.73200 5131094.83300
NE_QUAD_CORNER_XY: 336386.78300 5130963.81800
SE_QUAD_CORNERY_XY: 336200.55300 5124019.50400
SW_QUAD_CORNER_XY: 331383.02000 5124150.53200
SECONDARY_NW_QUAD_XY: 331569.61600 5130876.73300
SECONDARY_NE_QUAD_XY: 336381.81300 5130745.71400
SECONDARY_SE_QUAD_XY: 336195.58400 5123801.43800
SECONDARY_SW_QUAD_XY: 331377.90600 5123932.47000
RMSE_XY: 2.20000
IMAGE_SOURCE: BLACK AND WHITE FILM
SOURCE_IMAGE_ID: NAPP 8393 283
SOURCE_IMAGE_DATE: 1995 08 19
SOURCE_IMAGE_ID: NAPP 8393 182
SOURCE_IMAGE_DATE: 1995 08 19
SOURCE_IMAGE_ID: NAPP 8393 282
SOURCE_IMAGE_DATE: 1995 08 19
SOURCE_IMAGE_ID: NAPP 8402 049
SOURCE_IMAGE_DATE: 1995 09 02
SOURCE_DEM_DATE: 1997 00 00
AGENCY: WESTERN MAPPING CENTER (WMC)
PRODUCER: UNDEFINED
PRODUCTION_SYSTEM: GIS/MAGIC
COMPRESSION: UNDEFINED
STANDARD_VERSION: 1996 12
METADATA_DATE: 2000 05 30
DATA_FILE_SIZE: 43612375
BYTE_COUNT: 5675
