FILENAME: O4611346.NWS.1077001.tif
QUADRANGLE_NAME: PHILIPSBURG
QUADRANT: NW
WEST_LONGITUDE: -113 22 30.00000
EAST_LONGITUDE: -113 18 45.00000
NORTH_LATITUDE: 46 22 30.00000
SOUTH_LATITUDE: 46 18 45.00000
PRODUCTION_DATE: 2000 5 1
RASTER_ORDER: LEFT_RIGHT/TOP_BOTTOM
BAND_ORGANIZATION: SINGLE FILE
BAND_CONTENT: BLACK&WHITE
BAND_CONTENT: UNDEFINED
BAND_CONTENT: UNDEFINED
BITS_PER_PIXEL: 8
SAMPLES_AND_LINES: 5687 7697
HORIZONTAL_DATUM: NAD83
HORIZONTAL_COORDINATE_SYSTEM: UTM
COORDINATE_ZONE: 12
HORIZONTAL_UNITS: METERS
HORIZONTAL_RESOLUTION: 1.00000
SECONDARY_HORIZONTAL_DATUM: NAD27
XY_ORIGIN: 316768.00000 5138756.00000
SECONDARY_XY_ORIGIN: 316832.16000 5138544.10100
NATION: US
NATION: "SCIENCE
STATE: MT
NW_QUAD_CORNER_XY: 317347.01600 5138455.01100
NE_QUAD_CORNER_XY: 322153.54900 5138312.60600
SE_QUAD_CORNERY_XY: 321950.65900 5131368.26700
SW_QUAD_CORNER_XY: 317138.63600 5131510.68700
SECONDARY_NW_QUAD_XY: 317341.46100 5138236.88700
SECONDARY_NE_QUAD_XY: 322148.14000 5138094.47800
SECONDARY_SE_QUAD_XY: 321945.25000 5131150.17600
SECONDARY_SW_QUAD_XY: 317133.08200 5131292.59900
RMSE_XY: 2.90000
IMAGE_SOURCE: BLACK AND WHITE FILM
SOURCE_IMAGE_ID: NAPP 8390 043
SOURCE_IMAGE_DATE: 1995 07 31
SOURCE_IMAGE_ID: NAPP 8390 027
SOURCE_IMAGE_DATE: 1995 07 31
SOURCE_DEM_DATE: 1988 00 00
AGENCY: WESTERN MAPPING CENTER (WMC)
PRODUCER: UNDEFINED
PRODUCTION_SYSTEM: GIS/MAGIC
COMPRESSION: UNDEFINED
STANDARD_VERSION: 1996 12
METADATA_DATE: 2000 05 30
DATA_FILE_SIZE: 43778526
BYTE_COUNT: 5687
