FILENAME: O4611346.SES.1077002.tif
QUADRANGLE_NAME: PHILIPSBURG
QUADRANT: SE
WEST_LONGITUDE: -113 18 45.00000
EAST_LONGITUDE: -113 15 0.00000
NORTH_LATITUDE: 46 18 45.00000
SOUTH_LATITUDE: 46 15 0.00000
PRODUCTION_DATE: 2000 5 30
RASTER_ORDER: LEFT_RIGHT/TOP_BOTTOM
BAND_ORGANIZATION: SINGLE FILE
BAND_CONTENT: BLACK&WHITE
BAND_CONTENT: UNDEFINED
BAND_CONTENT: UNDEFINED
BITS_PER_PIXEL: 8
SAMPLES_AND_LINES: 5687 7692
HORIZONTAL_DATUM: NAD83
HORIZONTAL_COORDINATE_SYSTEM: UTM
COORDINATE_ZONE: 12
HORIZONTAL_UNITS: METERS
HORIZONTAL_RESOLUTION: 1.00000
SECONDARY_HORIZONTAL_DATUM: NAD27
XY_ORIGIN: 321377.00000 5131669.00000
SECONDARY_XY_ORIGIN: 321440.95100 5131457.18900
NATION: US
NATION: "SCIENCE
STATE: MT
NW_QUAD_CORNER_XY: 321950.65900 5131368.26700
NE_QUAD_CORNER_XY: 326762.69100 5131229.65000
SE_QUAD_CORNERY_XY: 326565.49600 5124285.36100
SW_QUAD_CORNER_XY: 321747.98100 5124423.99200
SECONDARY_NW_QUAD_XY: 321945.25000 5131150.17600
SECONDARY_NE_QUAD_XY: 326757.42900 5131011.55400
SECONDARY_SE_QUAD_XY: 326560.23500 5124067.30300
SECONDARY_SW_QUAD_XY: 321742.57400 5124205.93800
RMSE_XY: 2.90000
IMAGE_SOURCE: BLACK AND WHITE FILM
SOURCE_IMAGE_ID: NAPP 8391 163
SOURCE_IMAGE_DATE: 1995 08 01
SOURCE_DEM_DATE: 1988 00 00
AGENCY: WESTERN MAPPING CENTER (WMC)
PRODUCER: UNDEFINED
PRODUCTION_SYSTEM: GIS/MAGIC
COMPRESSION: UNDEFINED
STANDARD_VERSION: 1996 12
METADATA_DATE: 2000 05 30
DATA_FILE_SIZE: 43750091
BYTE_COUNT: 5687
