FILENAME: O4611343.NWS.1074820.tif
QUADRANGLE_NAME: STONY CREEK
QUADRANT: NW
WEST_LONGITUDE: -113 45 0.00000
EAST_LONGITUDE: -113 41 15.00000
NORTH_LATITUDE: 46 22 30.00000
SOUTH_LATITUDE: 46 18 45.00000
PRODUCTION_DATE: 2000 4 25
RASTER_ORDER: LEFT_RIGHT/TOP_BOTTOM
BAND_ORGANIZATION: SINGLE FILE
BAND_CONTENT: BLACK&WHITE
BAND_CONTENT: UNDEFINED
BAND_CONTENT: UNDEFINED
BITS_PER_PIXEL: 8
SAMPLES_AND_LINES: 5722 7719
HORIZONTAL_DATUM: NAD83
HORIZONTAL_COORDINATE_SYSTEM: UTM
COORDINATE_ZONE: 12
HORIZONTAL_UNITS: METERS
HORIZONTAL_RESOLUTION: 1.00000
SECONDARY_HORIZONTAL_DATUM: NAD27
XY_ORIGIN: 287894.00000 5139690.00000
SECONDARY_XY_ORIGIN: 287958.77900 5139478.03100
NATION: US
NATION: "SCIENCE
STATE: MT
NW_QUAD_CORNER_XY: 288508.04300 5139389.28600
NE_QUAD_CORNER_XY: 293314.51000 5139224.06700
SE_QUAD_CORNERY_XY: 293078.67600 5132279.82000
SW_QUAD_CORNER_XY: 288266.71700 5132445.05600
SECONDARY_NW_QUAD_XY: 288501.61000 5139171.19000
SECONDARY_NE_QUAD_XY: 293308.22300 5139005.96600
SECONDARY_SE_QUAD_XY: 293072.39100 5132061.75600
SECONDARY_SW_QUAD_XY: 288260.28500 5132226.99700
RMSE_XY: 3.20000
IMAGE_SOURCE: BLACK AND WHITE FILM
SOURCE_IMAGE_ID: NAPP 8389 130
SOURCE_IMAGE_DATE: 1995 07 31
SOURCE_IMAGE_ID: NAPP 8389 174
SOURCE_IMAGE_DATE: 1995 07 31
SOURCE_IMAGE_ID: NAPP 8389 129
SOURCE_IMAGE_DATE: 1995 07 31
SOURCE_IMAGE_ID: NAPP 8389 131
SOURCE_IMAGE_DATE: 1995 07 31
SOURCE_IMAGE_ID: NAPP 8393 121
SOURCE_IMAGE_DATE: 1995 08 19
SOURCE_DEM_DATE: 1997 00 00
AGENCY: WESTERN MAPPING CENTER (WMC)
PRODUCER: UNDEFINED
PRODUCTION_SYSTEM: GIS/MAGIC
COMPRESSION: UNDEFINED
STANDARD_VERSION: 1996 12
METADATA_DATE: 2000 05 25
DATA_FILE_SIZE: 44173840
BYTE_COUNT: 5722
