FILENAME: O4611341.NWS.1074772.tif
QUADRANGLE_NAME: WILLOW MOUNTAIN
QUADRANT: NW
WEST_LONGITUDE: -114 0 0.00000
EAST_LONGITUDE: -113 56 15.00000
NORTH_LATITUDE: 46 22 30.00000
SOUTH_LATITUDE: 46 18 45.00000
PRODUCTION_DATE: 2000 3 17
RASTER_ORDER: LEFT_RIGHT/TOP_BOTTOM
BAND_ORGANIZATION: SINGLE FILE
BAND_CONTENT: BLACK&WHITE
BAND_CONTENT: UNDEFINED
BAND_CONTENT: UNDEFINED
BITS_PER_PIXEL: 8
SAMPLES_AND_LINES: 5744 7734
HORIZONTAL_DATUM: NAD83
HORIZONTAL_COORDINATE_SYSTEM: UTM
COORDINATE_ZONE: 12
HORIZONTAL_UNITS: METERS
HORIZONTAL_RESOLUTION: 1.00000
SECONDARY_HORIZONTAL_DATUM: NAD27
XY_ORIGIN: 268646.00000 5140389.00000
SECONDARY_XY_ORIGIN: 268710.79400 5140176.87300
NATION: US
NATION: "SCIENCE
STATE: MT
NW_QUAD_CORNER_XY: 269282.29700 5140088.20500
NE_QUAD_CORNER_XY: 274088.71400 5139907.76800
SE_QUAD_CORNERY_XY: 273830.90800 5132963.59100
SW_QUAD_CORNER_XY: 269018.99600 5133144.04500
SECONDARY_NW_QUAD_XY: 269275.27900 5139870.13000
SECONDARY_NE_QUAD_XY: 274081.84200 5139689.68800
SECONDARY_SE_QUAD_XY: 273824.03700 5132745.54700
SECONDARY_SW_QUAD_XY: 269011.97900 5132926.00800
RMSE_XY: 2.50000
IMAGE_SOURCE: BLACK AND WHITE FILM
SOURCE_IMAGE_ID: NAPP 8389 028
SOURCE_IMAGE_DATE: 1995 07 31
SOURCE_IMAGE_ID: NAPP 8389 027
SOURCE_IMAGE_DATE: 1995 07 31
SOURCE_DEM_DATE: 1997 00 00
AGENCY: WESTERN MAPPING CENTER (WMC)
PRODUCER: UNDEFINED
PRODUCTION_SYSTEM: GIS/MAGIC
COMPRESSION: UNDEFINED
STANDARD_VERSION: 1996 12
METADATA_DATE: 2000 05 20
DATA_FILE_SIZE: 44429840
BYTE_COUNT: 5744
