FILENAME: O4611340.NWS.1077104.tif
QUADRANGLE_NAME: PIKES PEAK
QUADRANT: NW
WEST_LONGITUDE: -113 7 30.00000
EAST_LONGITUDE: -113 3 45.00000
NORTH_LATITUDE: 46 30 0.00000
SOUTH_LATITUDE: 46 26 15.00000
PRODUCTION_DATE: 2000 5 26
RASTER_ORDER: LEFT_RIGHT/TOP_BOTTOM
BAND_ORGANIZATION: SINGLE FILE
BAND_CONTENT: BLACK&WHITE
BAND_CONTENT: UNDEFINED
BAND_CONTENT: UNDEFINED
BITS_PER_PIXEL: 8
SAMPLES_AND_LINES: 5654 7681
HORIZONTAL_DATUM: NAD83
HORIZONTAL_COORDINATE_SYSTEM: UTM
COORDINATE_ZONE: 12
HORIZONTAL_UNITS: METERS
HORIZONTAL_RESOLUTION: 1.00000
SECONDARY_HORIZONTAL_DATUM: NAD27
XY_ORIGIN: 336390.00000 5152098.00000
SECONDARY_XY_ORIGIN: 336453.73900 5151886.00000
NATION: US
NATION: "SCIENCE
STATE: MT
NW_QUAD_CORNER_XY: 336946.64600 5151797.15500
NE_QUAD_CORNER_XY: 341742.22500 5151669.98000
SE_QUAD_CORNERY_XY: 341560.90700 5144725.45500
SW_QUAD_CORNER_XY: 336759.82900 5144852.64300
SECONDARY_NW_QUAD_XY: 336941.67300 5151578.94200
SECONDARY_NE_QUAD_XY: 341737.39900 5151451.76300
SECONDARY_SE_QUAD_XY: 341556.08200 5144507.27400
SECONDARY_SW_QUAD_XY: 336754.85700 5144634.46600
RMSE_XY: 2.30000
IMAGE_SOURCE: BLACK AND WHITE FILM
SOURCE_IMAGE_ID: NAPP 8402 044
SOURCE_IMAGE_DATE: 1995 09 02
SOURCE_IMAGE_ID: NAPP 8402 045
SOURCE_IMAGE_DATE: 1995 09 02
SOURCE_IMAGE_ID: NAPP 8402 043
SOURCE_IMAGE_DATE: 1995 09 02
SOURCE_IMAGE_ID: NAPP 8398 177
SOURCE_IMAGE_DATE: 1995 08 28
SOURCE_IMAGE_ID: NAPP 8402 040
SOURCE_IMAGE_DATE: 1995 09 02
SOURCE_DEM_DATE: 1997 00 00
AGENCY: WESTERN MAPPING CENTER (WMC)
PRODUCER: UNDEFINED
PRODUCTION_SYSTEM: GIS/MAGIC
COMPRESSION: UNDEFINED
STANDARD_VERSION: 1996 12
METADATA_DATE: 2000 05 30
DATA_FILE_SIZE: 43434028
BYTE_COUNT: 5654
