FILENAME: O4611340.SES.1077105.tif
QUADRANGLE_NAME: PIKES PEAK
QUADRANT: SE
WEST_LONGITUDE: -113 3 45.00000
EAST_LONGITUDE: -113 0 0.00000
NORTH_LATITUDE: 46 26 15.00000
SOUTH_LATITUDE: 46 22 30.00000
PRODUCTION_DATE: 2000 5 26
RASTER_ORDER: LEFT_RIGHT/TOP_BOTTOM
BAND_ORGANIZATION: SINGLE FILE
BAND_CONTENT: BLACK&WHITE
BAND_CONTENT: UNDEFINED
BAND_CONTENT: UNDEFINED
BITS_PER_PIXEL: 8
SAMPLES_AND_LINES: 5653 7677
HORIZONTAL_DATUM: NAD83
HORIZONTAL_COORDINATE_SYSTEM: UTM
COORDINATE_ZONE: 12
HORIZONTAL_UNITS: METERS
HORIZONTAL_RESOLUTION: 1.00000
SECONDARY_HORIZONTAL_DATUM: NAD27
XY_ORIGIN: 341010.00000 5145026.00000
SECONDARY_XY_ORIGIN: 341073.53500 5144814.09900
NATION: US
NATION: "SCIENCE
STATE: MT
NW_QUAD_CORNER_XY: 341560.90700 5144725.45500
NE_QUAD_CORNER_XY: 346361.99500 5144602.06600
SE_QUAD_CORNERY_XY: 346186.36000 5137657.59500
SW_QUAD_CORNER_XY: 341379.77900 5137780.99600
SECONDARY_NW_QUAD_XY: 341556.08200 5144507.27400
SECONDARY_NE_QUAD_XY: 346357.31600 5144383.88100
SECONDARY_SE_QUAD_XY: 346181.68200 5137439.44600
SECONDARY_SW_QUAD_XY: 341374.95500 5137562.85100
RMSE_XY: 2.90000
IMAGE_SOURCE: BLACK AND WHITE FILM
SOURCE_IMAGE_ID: NAPP 8402 039
SOURCE_IMAGE_DATE: 1995 09 02
SOURCE_IMAGE_ID: NAPP 8402 047
SOURCE_IMAGE_DATE: 1995 09 02
SOURCE_IMAGE_ID: NAPP 8402 045
SOURCE_IMAGE_DATE: 1995 09 02
SOURCE_IMAGE_ID: NAPP 8402 038
SOURCE_IMAGE_DATE: 1995 09 02
SOURCE_IMAGE_ID: NAPP 8402 040
SOURCE_IMAGE_DATE: 1995 09 02
SOURCE_DEM_DATE: 1997 00 00
AGENCY: WESTERN MAPPING CENTER (WMC)
PRODUCER: UNDEFINED
PRODUCTION_SYSTEM: GIS/MAGIC
COMPRESSION: UNDEFINED
STANDARD_VERSION: 1996 12
METADATA_DATE: 2000 05 30
DATA_FILE_SIZE: 43403734
BYTE_COUNT: 5653
