FILENAME: O4611340.SWS.1077106.tif
QUADRANGLE_NAME: PIKES PEAK
QUADRANT: SW
WEST_LONGITUDE: -113 7 30.00000
EAST_LONGITUDE: -113 3 45.00000
NORTH_LATITUDE: 46 26 15.00000
SOUTH_LATITUDE: 46 22 30.00000
PRODUCTION_DATE: 2000 5 26
RASTER_ORDER: LEFT_RIGHT/TOP_BOTTOM
BAND_ORGANIZATION: SINGLE FILE
BAND_CONTENT: BLACK&WHITE
BAND_CONTENT: UNDEFINED
BAND_CONTENT: UNDEFINED
BITS_PER_PIXEL: 8
SAMPLES_AND_LINES: 5659 7681
HORIZONTAL_DATUM: NAD83
HORIZONTAL_COORDINATE_SYSTEM: UTM
COORDINATE_ZONE: 12
HORIZONTAL_UNITS: METERS
HORIZONTAL_RESOLUTION: 1.00000
SECONDARY_HORIZONTAL_DATUM: NAD27
XY_ORIGIN: 336203.00000 5145153.00000
SECONDARY_XY_ORIGIN: 336266.67500 5144941.07500
NATION: US
NATION: "SCIENCE
STATE: MT
NW_QUAD_CORNER_XY: 336759.82900 5144852.64300
NE_QUAD_CORNER_XY: 341560.90700 5144725.45500
SE_QUAD_CORNERY_XY: 341379.77900 5137780.99600
SW_QUAD_CORNER_XY: 336573.20800 5137908.19800
SECONDARY_NW_QUAD_XY: 336754.85700 5144634.46600
SECONDARY_NE_QUAD_XY: 341556.08200 5144507.27400
SECONDARY_SE_QUAD_XY: 341374.95500 5137562.85100
SECONDARY_SW_QUAD_XY: 336568.23700 5137690.05700
RMSE_XY: 2.40000
IMAGE_SOURCE: BLACK AND WHITE FILM
SOURCE_IMAGE_ID: NAPP 8402 046
SOURCE_IMAGE_DATE: 1995 09 02
SOURCE_IMAGE_ID: NAPP 8402 047
SOURCE_IMAGE_DATE: 1995 09 02
SOURCE_IMAGE_ID: NAPP 8402 045
SOURCE_IMAGE_DATE: 1995 09 02
SOURCE_IMAGE_ID: NAPP 8402 038
SOURCE_IMAGE_DATE: 1995 09 02
SOURCE_DEM_DATE: 1997 00 00
AGENCY: WESTERN MAPPING CENTER (WMC)
PRODUCER: UNDEFINED
PRODUCTION_SYSTEM: GIS/MAGIC
COMPRESSION: UNDEFINED
STANDARD_VERSION: 1996 12
METADATA_DATE: 2000 05 30
DATA_FILE_SIZE: 43472438
BYTE_COUNT: 5659
