FILENAME: O4611337.SES.1074889.tif
QUADRANGLE_NAME: BLACK PINE RIDGE
QUADRANT: SE
WEST_LONGITUDE: -113 26 15.00000
EAST_LONGITUDE: -113 22 30.00000
NORTH_LATITUDE: 46 26 15.00000
SOUTH_LATITUDE: 46 22 30.00000
PRODUCTION_DATE: 2000 4 27
RASTER_ORDER: LEFT_RIGHT/TOP_BOTTOM
BAND_ORGANIZATION: SINGLE FILE
BAND_CONTENT: BLACK&WHITE
BAND_CONTENT: UNDEFINED
BAND_CONTENT: UNDEFINED
BITS_PER_PIXEL: 8
SAMPLES_AND_LINES: 5688 7700
HORIZONTAL_DATUM: NAD83
HORIZONTAL_COORDINATE_SYSTEM: UTM
COORDINATE_ZONE: 12
HORIZONTAL_UNITS: METERS
HORIZONTAL_RESOLUTION: 1.00000
SECONDARY_HORIZONTAL_DATUM: NAD27
XY_ORIGIN: 312169.00000 5145846.00000
SECONDARY_XY_ORIGIN: 312233.37700 5145634.01300
NATION: US
NATION: "SCIENCE
STATE: MT
NW_QUAD_CORNER_XY: 312754.58700 5145545.59100
NE_QUAD_CORNER_XY: 317555.61500 5145399.39900
SE_QUAD_CORNERY_XY: 317347.01600 5138455.01100
SW_QUAD_CORNER_XY: 312540.49300 5138601.21800
SECONDARY_NW_QUAD_XY: 312748.88500 5145327.43400
SECONDARY_NE_QUAD_XY: 317550.05800 5145181.23900
SECONDARY_SE_QUAD_XY: 317341.46100 5138236.88700
SECONDARY_SW_QUAD_XY: 312534.79100 5138383.09800
RMSE_XY: 2.10000
IMAGE_SOURCE: BLACK AND WHITE FILM
SOURCE_IMAGE_ID: NAPP 8390 046
SOURCE_IMAGE_DATE: 1995 07 31
SOURCE_IMAGE_ID: NAPP 8390 085
SOURCE_IMAGE_DATE: 1995 07 31
SOURCE_IMAGE_ID: NAPP 8390 027
SOURCE_IMAGE_DATE: 1995 07 31
SOURCE_IMAGE_ID: NAPP 8390 025
SOURCE_IMAGE_DATE: 1995 07 31
SOURCE_IMAGE_ID: NAPP 8390 045
SOURCE_IMAGE_DATE: 1995 07 31
SOURCE_DEM_DATE: 1997 00 00
AGENCY: WESTERN MAPPING CENTER (WMC)
PRODUCER: UNDEFINED
PRODUCTION_SYSTEM: GIS/MAGIC
COMPRESSION: UNDEFINED
STANDARD_VERSION: 1996 12
METADATA_DATE: 2000 05 25
DATA_FILE_SIZE: 43803288
BYTE_COUNT: 5688
