FILENAME: O4611336.NES.1074863.tif
QUADRANGLE_NAME: ALDER GULCH
QUADRANT: NE
WEST_LONGITUDE: -113 33 45.00000
EAST_LONGITUDE: -113 30 0.00000
NORTH_LATITUDE: 46 30 0.00000
SOUTH_LATITUDE: 46 26 15.00000
PRODUCTION_DATE: 2000 5 25
RASTER_ORDER: LEFT_RIGHT/TOP_BOTTOM
BAND_ORGANIZATION: SINGLE FILE
BAND_CONTENT: BLACK&WHITE
BAND_CONTENT: UNDEFINED
BAND_CONTENT: UNDEFINED
BITS_PER_PIXEL: 8
SAMPLES_AND_LINES: 5695 7707
HORIZONTAL_DATUM: NAD83
HORIZONTAL_COORDINATE_SYSTEM: UTM
COORDINATE_ZONE: 12
HORIZONTAL_UNITS: METERS
HORIZONTAL_RESOLUTION: 1.00000
SECONDARY_HORIZONTAL_DATUM: NAD27
XY_ORIGIN: 302780.00000 5153094.00000
SECONDARY_XY_ORIGIN: 302844.69400 5152881.91500
NATION: US
NATION: "SCIENCE
STATE: MT
NW_QUAD_CORNER_XY: 303377.88900 5152793.77900
NE_QUAD_CORNER_XY: 308173.39100 5152640.00200
SE_QUAD_CORNERY_XY: 307953.57100 5145695.58300
SW_QUAD_CORNER_XY: 303152.56600 5145849.37800
SECONDARY_NW_QUAD_XY: 303371.89200 5152575.59700
SECONDARY_NE_QUAD_XY: 308167.54100 5152421.81400
SECONDARY_SE_QUAD_XY: 307947.72200 5145477.43100
SECONDARY_SW_QUAD_XY: 303146.57100 5145631.23100
RMSE_XY: 3.10000
IMAGE_SOURCE: BLACK AND WHITE FILM
SOURCE_IMAGE_ID: NAPP 8390 081
SOURCE_IMAGE_DATE: 1995 07 31
SOURCE_IMAGE_ID: NAPP 8389 246
SOURCE_IMAGE_DATE: 1995 07 31
SOURCE_IMAGE_ID: NAPP 8391 229
SOURCE_IMAGE_DATE: 1995 08 01
SOURCE_IMAGE_ID: NAPP 8391 227
SOURCE_IMAGE_DATE: 1995 08 01
SOURCE_IMAGE_ID: NAPP 8390 083
SOURCE_IMAGE_DATE: 1995 07 31
SOURCE_DEM_DATE: 1988 00 00
AGENCY: WESTERN MAPPING CENTER (WMC)
PRODUCER: UNDEFINED
PRODUCTION_SYSTEM: GIS/MAGIC
COMPRESSION: UNDEFINED
STANDARD_VERSION: 1996 12
METADATA_DATE: 2000 05 25
DATA_FILE_SIZE: 43897060
BYTE_COUNT: 5695
