FILENAME: O4611336.SES.1074865.tif
QUADRANGLE_NAME: ALDER GULCH
QUADRANT: SE
WEST_LONGITUDE: -113 33 45.00000
EAST_LONGITUDE: -113 30 0.00000
NORTH_LATITUDE: 46 26 15.00000
SOUTH_LATITUDE: 46 22 30.00000
PRODUCTION_DATE: 2000 5 1
RASTER_ORDER: LEFT_RIGHT/TOP_BOTTOM
BAND_ORGANIZATION: SINGLE FILE
BAND_CONTENT: BLACK&WHITE
BAND_CONTENT: UNDEFINED
BAND_CONTENT: UNDEFINED
BITS_PER_PIXEL: 8
SAMPLES_AND_LINES: 5700 7707
HORIZONTAL_DATUM: NAD83
HORIZONTAL_COORDINATE_SYSTEM: UTM
COORDINATE_ZONE: 12
HORIZONTAL_UNITS: METERS
HORIZONTAL_RESOLUTION: 1.00000
SECONDARY_HORIZONTAL_DATUM: NAD27
XY_ORIGIN: 302555.00000 5146150.00000
SECONDARY_XY_ORIGIN: 302619.60600 5145937.99500
NATION: US
NATION: "SCIENCE
STATE: MT
NW_QUAD_CORNER_XY: 303152.56600 5145849.37800
NE_QUAD_CORNER_XY: 307953.57100 5145695.58300
SE_QUAD_CORNERY_XY: 307733.98100 5138751.22700
SW_QUAD_CORNER_XY: 302927.47900 5138905.03700
SECONDARY_NW_QUAD_XY: 303146.57100 5145631.23100
SECONDARY_NE_QUAD_XY: 307947.72200 5145477.43100
SECONDARY_SE_QUAD_XY: 307728.13300 5138533.11100
SECONDARY_SW_QUAD_XY: 302921.48500 5138686.92600
RMSE_XY: 3.70000
IMAGE_SOURCE: BLACK AND WHITE FILM
SOURCE_IMAGE_ID: NAPP 8390 083
SOURCE_IMAGE_DATE: 1995 07 31
SOURCE_IMAGE_ID: NAPP 8389 244
SOURCE_IMAGE_DATE: 1995 07 31
SOURCE_IMAGE_ID: NAPP 8391 231
SOURCE_IMAGE_DATE: 1995 08 01
SOURCE_IMAGE_ID: NAPP 8391 229
SOURCE_IMAGE_DATE: 1995 08 01
SOURCE_IMAGE_ID: NAPP 8390 085
SOURCE_IMAGE_DATE: 1995 07 31
SOURCE_DEM_DATE: 1988 00 00
AGENCY: WESTERN MAPPING CENTER (WMC)
PRODUCER: UNDEFINED
PRODUCTION_SYSTEM: GIS/MAGIC
COMPRESSION: UNDEFINED
STANDARD_VERSION: 1996 12
METADATA_DATE: 2000 05 25
DATA_FILE_SIZE: 43935600
BYTE_COUNT: 5700
