FILENAME: O4611333.NWS.1074768.tif
QUADRANGLE_NAME: CORLEY GULCH
QUADRANT: NW
WEST_LONGITUDE: -114 0 0.00000
EAST_LONGITUDE: -113 56 15.00000
NORTH_LATITUDE: 46 30 0.00000
SOUTH_LATITUDE: 46 26 15.00000
PRODUCTION_DATE: 2000 3 17
RASTER_ORDER: LEFT_RIGHT/TOP_BOTTOM
BAND_ORGANIZATION: SINGLE FILE
BAND_CONTENT: BLACK&WHITE
BAND_CONTENT: UNDEFINED
BAND_CONTENT: UNDEFINED
BITS_PER_PIXEL: 8
SAMPLES_AND_LINES: 5735 7733
HORIZONTAL_DATUM: NAD83
HORIZONTAL_COORDINATE_SYSTEM: UTM
COORDINATE_ZONE: 12
HORIZONTAL_UNITS: METERS
HORIZONTAL_RESOLUTION: 1.00000
SECONDARY_HORIZONTAL_DATUM: NAD27
XY_ORIGIN: 269172.00000 5154277.00000
SECONDARY_XY_ORIGIN: 269237.03400 5154064.74200
NATION: US
NATION: "SCIENCE
STATE: MT
NW_QUAD_CORNER_XY: 269809.72600 5153976.69000
NE_QUAD_CORNER_XY: 274605.13800 5153796.29300
SE_QUAD_CORNERY_XY: 274346.79100 5146852.00300
SW_QUAD_CORNER_XY: 269545.87400 5147032.42000
SECONDARY_NW_QUAD_XY: 269802.70600 5153758.54400
SECONDARY_NE_QUAD_XY: 274598.26300 5153578.14100
SECONDARY_SE_QUAD_XY: 274339.91800 5146633.88600
SECONDARY_SW_QUAD_XY: 269538.85400 5146814.30900
RMSE_XY: 1.30000
IMAGE_SOURCE: BLACK AND WHITE FILM
SOURCE_IMAGE_ID: NAPP 8389 032
SOURCE_IMAGE_DATE: 1995 07 31
SOURCE_IMAGE_ID: NAPP 8389 031
SOURCE_IMAGE_DATE: 1995 07 31
SOURCE_DEM_DATE: 1997 00 00
AGENCY: WESTERN MAPPING CENTER (WMC)
PRODUCER: UNDEFINED
PRODUCTION_SYSTEM: GIS/MAGIC
COMPRESSION: UNDEFINED
STANDARD_VERSION: 1996 12
METADATA_DATE: 2000 05 20
DATA_FILE_SIZE: 44354490
BYTE_COUNT: 5735
