FILENAME: O4611333.SWS.1074770.tif
QUADRANGLE_NAME: CORLEY GULCH
QUADRANT: SW
WEST_LONGITUDE: -114 0 0.00000
EAST_LONGITUDE: -113 56 15.00000
NORTH_LATITUDE: 46 26 15.00000
SOUTH_LATITUDE: 46 22 30.00000
PRODUCTION_DATE: 2000 3 17
RASTER_ORDER: LEFT_RIGHT/TOP_BOTTOM
BAND_ORGANIZATION: SINGLE FILE
BAND_CONTENT: BLACK&WHITE
BAND_CONTENT: UNDEFINED
BAND_CONTENT: UNDEFINED
BITS_PER_PIXEL: 8
SAMPLES_AND_LINES: 5739 7734
HORIZONTAL_DATUM: NAD83
HORIZONTAL_COORDINATE_SYSTEM: UTM
COORDINATE_ZONE: 12
HORIZONTAL_UNITS: METERS
HORIZONTAL_RESOLUTION: 1.00000
SECONDARY_HORIZONTAL_DATUM: NAD27
XY_ORIGIN: 268909.00000 5147333.00000
SECONDARY_XY_ORIGIN: 268973.91500 5147120.80700
NATION: US
NATION: "SCIENCE
STATE: MT
NW_QUAD_CORNER_XY: 269545.87400 5147032.42000
NE_QUAD_CORNER_XY: 274346.79100 5146852.00300
SE_QUAD_CORNERY_XY: 274088.71400 5139907.76800
SW_QUAD_CORNER_XY: 269282.29700 5140088.20500
SECONDARY_NW_QUAD_XY: 269538.85400 5146814.30900
SECONDARY_NE_QUAD_XY: 274339.91800 5146633.88600
SECONDARY_SE_QUAD_XY: 274081.84200 5139689.68800
SECONDARY_SW_QUAD_XY: 269275.27900 5139870.13000
RMSE_XY: 2.40000
IMAGE_SOURCE: BLACK AND WHITE FILM
SOURCE_IMAGE_ID: NAPP 8389 030
SOURCE_IMAGE_DATE: 1995 07 31
SOURCE_DEM_DATE: 1997 00 00
AGENCY: WESTERN MAPPING CENTER (WMC)
PRODUCER: UNDEFINED
PRODUCTION_SYSTEM: GIS/MAGIC
COMPRESSION: UNDEFINED
STANDARD_VERSION: 1996 12
METADATA_DATE: 2000 05 20
DATA_FILE_SIZE: 44391165
BYTE_COUNT: 5739
