FILENAME: O4611332.SWS.1077102.tif
QUADRANGLE_NAME: DUNKLEBERG CREEK
QUADRANT: SW
WEST_LONGITUDE: -113 7 30.00000
EAST_LONGITUDE: -113 3 45.00000
NORTH_LATITUDE: 46 33 45.00000
SOUTH_LATITUDE: 46 30 0.00000
PRODUCTION_DATE: 2000 5 26
RASTER_ORDER: LEFT_RIGHT/TOP_BOTTOM
BAND_ORGANIZATION: SINGLE FILE
BAND_CONTENT: BLACK&WHITE
BAND_CONTENT: UNDEFINED
BAND_CONTENT: UNDEFINED
BITS_PER_PIXEL: 8
SAMPLES_AND_LINES: 5649 7681
HORIZONTAL_DATUM: NAD83
HORIZONTAL_COORDINATE_SYSTEM: UTM
COORDINATE_ZONE: 12
HORIZONTAL_UNITS: METERS
HORIZONTAL_RESOLUTION: 1.00000
SECONDARY_HORIZONTAL_DATUM: NAD27
XY_ORIGIN: 336576.00000 5159042.00000
SECONDARY_XY_ORIGIN: 336639.74400 5158829.82400
NATION: US
NATION: "SCIENCE
STATE: MT
NW_QUAD_CORNER_XY: 337133.65700 5158741.73200
NE_QUAD_CORNER_XY: 341923.73200 5158614.57200
SE_QUAD_CORNERY_XY: 341742.22500 5151669.98000
SW_QUAD_CORNER_XY: 336946.64600 5151797.15500
SECONDARY_NW_QUAD_XY: 337128.68400 5158523.48400
SECONDARY_NE_QUAD_XY: 341918.90500 5158396.32000
SECONDARY_SE_QUAD_XY: 341737.39900 5151451.76300
SECONDARY_SW_QUAD_XY: 336941.67300 5151578.94200
RMSE_XY: 3.20000
IMAGE_SOURCE: BLACK AND WHITE FILM
SOURCE_IMAGE_ID: NAPP 8398 177
SOURCE_IMAGE_DATE: 1995 08 28
SOURCE_IMAGE_ID: NAPP 8398 172
SOURCE_IMAGE_DATE: 1995 08 28
SOURCE_IMAGE_ID: NAPP 8402 044
SOURCE_IMAGE_DATE: 1995 09 02
SOURCE_IMAGE_ID: NAPP 8402 043
SOURCE_IMAGE_DATE: 1995 09 02
SOURCE_DEM_DATE: 1988 00 00
AGENCY: WESTERN MAPPING CENTER (WMC)
PRODUCER: UNDEFINED
PRODUCTION_SYSTEM: GIS/MAGIC
COMPRESSION: UNDEFINED
STANDARD_VERSION: 1996 12
METADATA_DATE: 2000 05 30
DATA_FILE_SIZE: 43395618
BYTE_COUNT: 5649
