FILENAME: O4611331.NES.1077056.tif
QUADRANGLE_NAME: HALL
QUADRANT: NE
WEST_LONGITUDE: -113 11 15.00000
EAST_LONGITUDE: -113 7 30.00000
NORTH_LATITUDE: 46 37 30.00000
SOUTH_LATITUDE: 46 33 45.00000
PRODUCTION_DATE: 2000 5 1
RASTER_ORDER: LEFT_RIGHT/TOP_BOTTOM
BAND_ORGANIZATION: SINGLE FILE
BAND_CONTENT: BLACK&WHITE
BAND_CONTENT: UNDEFINED
BAND_CONTENT: UNDEFINED
BITS_PER_PIXEL: 8
SAMPLES_AND_LINES: 5649 7685
HORIZONTAL_DATUM: NAD83
HORIZONTAL_COORDINATE_SYSTEM: UTM
COORDINATE_ZONE: 12
HORIZONTAL_UNITS: METERS
HORIZONTAL_RESOLUTION: 1.00000
SECONDARY_HORIZONTAL_DATUM: NAD27
XY_ORIGIN: 331973.00000 5166118.00000
SECONDARY_XY_ORIGIN: 332036.89100 5165905.64300
NATION: US
NATION: "SCIENCE
STATE: MT
NW_QUAD_CORNER_XY: 332536.31100 5165817.31800
NE_QUAD_CORNER_XY: 337320.86400 5165686.37500
SE_QUAD_CORNERY_XY: 337133.65700 5158741.73200
SW_QUAD_CORNER_XY: 332343.59300 5158872.69100
SECONDARY_NW_QUAD_XY: 332531.19100 5165599.04000
SECONDARY_NE_QUAD_XY: 337315.89000 5165468.09300
SECONDARY_SE_QUAD_XY: 337128.68400 5158523.48400
SECONDARY_SW_QUAD_XY: 332338.47400 5158654.44700
RMSE_XY: 2.30000
IMAGE_SOURCE: BLACK AND WHITE FILM
SOURCE_IMAGE_ID: NAPP 8398 172
SOURCE_IMAGE_DATE: 1995 08 28
SOURCE_IMAGE_ID: NAPP 8393 172
SOURCE_IMAGE_DATE: 1995 08 19
SOURCE_IMAGE_ID: NAPP 8398 173
SOURCE_IMAGE_DATE: 1995 08 28
SOURCE_DEM_DATE: 1988 00 00
AGENCY: WESTERN MAPPING CENTER (WMC)
PRODUCER: UNDEFINED
PRODUCTION_SYSTEM: GIS/MAGIC
COMPRESSION: UNDEFINED
STANDARD_VERSION: 1996 12
METADATA_DATE: 2000 05 30
DATA_FILE_SIZE: 43418214
BYTE_COUNT: 5649
