FILENAME: O4611331.NWS.1077057.tif
QUADRANGLE_NAME: HALL
QUADRANT: NW
WEST_LONGITUDE: -113 15 0.00000
EAST_LONGITUDE: -113 11 15.00000
NORTH_LATITUDE: 46 37 30.00000
SOUTH_LATITUDE: 46 33 45.00000
PRODUCTION_DATE: 2000 5 1
RASTER_ORDER: LEFT_RIGHT/TOP_BOTTOM
BAND_ORGANIZATION: SINGLE FILE
BAND_CONTENT: BLACK&WHITE
BAND_CONTENT: UNDEFINED
BAND_CONTENT: UNDEFINED
BITS_PER_PIXEL: 8
SAMPLES_AND_LINES: 5655 7689
HORIZONTAL_DATUM: NAD83
HORIZONTAL_COORDINATE_SYSTEM: UTM
COORDINATE_ZONE: 12
HORIZONTAL_UNITS: METERS
HORIZONTAL_RESOLUTION: 1.00000
SECONDARY_HORIZONTAL_DATUM: NAD27
XY_ORIGIN: 327183.00000 5166253.00000
SECONDARY_XY_ORIGIN: 327247.03100 5166040.62900
NATION: US
NATION: "SCIENCE
STATE: MT
NW_QUAD_CORNER_XY: 327751.76900 5165952.06000
NE_QUAD_CORNER_XY: 332536.31100 5165817.31800
SE_QUAD_CORNERY_XY: 332343.59300 5158872.69100
SW_QUAD_CORNER_XY: 327553.54000 5159007.44900
SECONDARY_NW_QUAD_XY: 327746.50200 5165733.78700
SECONDARY_NE_QUAD_XY: 332531.19100 5165599.04000
SECONDARY_SE_QUAD_XY: 332338.47400 5158654.44700
SECONDARY_SW_QUAD_XY: 327548.27400 5158789.20900
RMSE_XY: 2.10000
IMAGE_SOURCE: BLACK AND WHITE FILM
SOURCE_IMAGE_ID: NAPP 8393 173
SOURCE_IMAGE_DATE: 1995 08 19
SOURCE_IMAGE_ID: NAPP 8393 172
SOURCE_IMAGE_DATE: 1995 08 19
SOURCE_DEM_DATE: 1988 00 00
AGENCY: WESTERN MAPPING CENTER (WMC)
PRODUCER: UNDEFINED
PRODUCTION_SYSTEM: GIS/MAGIC
COMPRESSION: UNDEFINED
STANDARD_VERSION: 1996 12
METADATA_DATE: 2000 05 30
DATA_FILE_SIZE: 43486950
BYTE_COUNT: 5655
