FILENAME: O4611331.SES.1077058.tif
QUADRANGLE_NAME: HALL
QUADRANT: SE
WEST_LONGITUDE: -113 11 15.00000
EAST_LONGITUDE: -113 7 30.00000
NORTH_LATITUDE: 46 33 45.00000
SOUTH_LATITUDE: 46 30 0.00000
PRODUCTION_DATE: 2000 5 1
RASTER_ORDER: LEFT_RIGHT/TOP_BOTTOM
BAND_ORGANIZATION: SINGLE FILE
BAND_CONTENT: BLACK&WHITE
BAND_CONTENT: UNDEFINED
BAND_CONTENT: UNDEFINED
BITS_PER_PIXEL: 8
SAMPLES_AND_LINES: 5654 7685
HORIZONTAL_DATUM: NAD83
HORIZONTAL_COORDINATE_SYSTEM: UTM
COORDINATE_ZONE: 12
HORIZONTAL_UNITS: METERS
HORIZONTAL_RESOLUTION: 1.00000
SECONDARY_HORIZONTAL_DATUM: NAD27
XY_ORIGIN: 331781.00000 5159173.00000
SECONDARY_XY_ORIGIN: 331844.88400 5158960.80400
NATION: US
NATION: "SCIENCE
STATE: MT
NW_QUAD_CORNER_XY: 332343.59300 5158872.69100
NE_QUAD_CORNER_XY: 337133.65700 5158741.73200
SE_QUAD_CORNERY_XY: 336946.64600 5151797.15500
SW_QUAD_CORNER_XY: 332151.07600 5151928.12900
SECONDARY_NW_QUAD_XY: 332338.47400 5158654.44700
SECONDARY_NE_QUAD_XY: 337128.68400 5158523.48400
SECONDARY_SE_QUAD_XY: 336941.67300 5151578.94200
SECONDARY_SW_QUAD_XY: 332145.95800 5151709.92000
RMSE_XY: 3.20000
IMAGE_SOURCE: BLACK AND WHITE FILM
SOURCE_IMAGE_ID: NAPP 8398 174
SOURCE_IMAGE_DATE: 1995 08 28
SOURCE_IMAGE_ID: NAPP 8393 290
SOURCE_IMAGE_DATE: 1995 08 19
SOURCE_DEM_DATE: 1988 00 00
AGENCY: WESTERN MAPPING CENTER (WMC)
PRODUCER: UNDEFINED
PRODUCTION_SYSTEM: GIS/MAGIC
COMPRESSION: UNDEFINED
STANDARD_VERSION: 1996 12
METADATA_DATE: 2000 05 30
DATA_FILE_SIZE: 43456644
BYTE_COUNT: 5654
