FILENAME: O4611330.NES.1077012.tif
QUADRANGLE_NAME: NIRLING HILL
QUADRANT: NE
WEST_LONGITUDE: -113 18 45.00000
EAST_LONGITUDE: -113 15 0.00000
NORTH_LATITUDE: 46 37 30.00000
SOUTH_LATITUDE: 46 33 45.00000
PRODUCTION_DATE: 2000 5 1
RASTER_ORDER: LEFT_RIGHT/TOP_BOTTOM
BAND_ORGANIZATION: SINGLE FILE
BAND_CONTENT: BLACK&WHITE
BAND_CONTENT: UNDEFINED
BAND_CONTENT: UNDEFINED
BITS_PER_PIXEL: 8
SAMPLES_AND_LINES: 5661 7692
HORIZONTAL_DATUM: NAD83
HORIZONTAL_COORDINATE_SYSTEM: UTM
COORDINATE_ZONE: 12
HORIZONTAL_UNITS: METERS
HORIZONTAL_RESOLUTION: 1.00000
SECONDARY_HORIZONTAL_DATUM: NAD27
XY_ORIGIN: 322392.00000 5166391.00000
SECONDARY_XY_ORIGIN: 322456.17600 5166178.63100
NATION: US
NATION: "SCIENCE
STATE: MT
NW_QUAD_CORNER_XY: 322967.23900 5166090.60200
NE_QUAD_CORNER_XY: 327751.76900 5165952.06000
SE_QUAD_CORNERY_XY: 327553.54000 5159007.44900
SW_QUAD_CORNER_XY: 322763.49800 5159146.00700
SECONDARY_NW_QUAD_XY: 322961.82600 5165872.33200
SECONDARY_NE_QUAD_XY: 327746.50200 5165733.78700
SECONDARY_SE_QUAD_XY: 327548.27400 5158789.20900
SECONDARY_SW_QUAD_XY: 322758.08600 5158927.77200
RMSE_XY: 1.30000
IMAGE_SOURCE: BLACK AND WHITE FILM
SOURCE_IMAGE_ID: NAPP 8391 173
SOURCE_IMAGE_DATE: 1995 08 01
SOURCE_IMAGE_ID: NAPP 8391 172
SOURCE_IMAGE_DATE: 1995 08 01
SOURCE_DEM_DATE: 1984 00 00
AGENCY: WESTERN MAPPING CENTER (WMC)
PRODUCER: UNDEFINED
PRODUCTION_SYSTEM: GIS/MAGIC
COMPRESSION: UNDEFINED
STANDARD_VERSION: 1996 12
METADATA_DATE: 2000 05 30
DATA_FILE_SIZE: 43550073
BYTE_COUNT: 5661
