FILENAME: O4611330.SES.1077014.tif
QUADRANGLE_NAME: NIRLING HILL
QUADRANT: SE
WEST_LONGITUDE: -113 18 45.00000
EAST_LONGITUDE: -113 15 0.00000
NORTH_LATITUDE: 46 33 45.00000
SOUTH_LATITUDE: 46 30 0.00000
PRODUCTION_DATE: 2000 5 1
RASTER_ORDER: LEFT_RIGHT/TOP_BOTTOM
BAND_ORGANIZATION: SINGLE FILE
BAND_CONTENT: BLACK&WHITE
BAND_CONTENT: UNDEFINED
BAND_CONTENT: UNDEFINED
BITS_PER_PIXEL: 8
SAMPLES_AND_LINES: 5666 7693
HORIZONTAL_DATUM: NAD83
HORIZONTAL_COORDINATE_SYSTEM: UTM
COORDINATE_ZONE: 12
HORIZONTAL_UNITS: METERS
HORIZONTAL_RESOLUTION: 1.00000
SECONDARY_HORIZONTAL_DATUM: NAD27
XY_ORIGIN: 322189.00000 5159447.00000
SECONDARY_XY_ORIGIN: 322253.17000 5159234.78400
NATION: US
NATION: "SCIENCE
STATE: MT
NW_QUAD_CORNER_XY: 322763.49800 5159146.00700
NE_QUAD_CORNER_XY: 327553.54000 5159007.44900
SE_QUAD_CORNERY_XY: 327355.51800 5152062.90300
SW_QUAD_CORNER_XY: 322559.96900 5152201.47600
SECONDARY_NW_QUAD_XY: 322758.08600 5158927.77200
SECONDARY_NE_QUAD_XY: 327548.27400 5158789.20900
SECONDARY_SE_QUAD_XY: 327350.25300 5151844.69700
SECONDARY_SW_QUAD_XY: 322554.55800 5151983.27600
RMSE_XY: 2.30000
IMAGE_SOURCE: BLACK AND WHITE FILM
SOURCE_IMAGE_ID: NAPP 8391 171
SOURCE_IMAGE_DATE: 1995 08 01
SOURCE_IMAGE_ID: NAPP 8391 170
SOURCE_IMAGE_DATE: 1995 08 01
SOURCE_IMAGE_ID: NAPP 8391 172
SOURCE_IMAGE_DATE: 1995 08 01
SOURCE_DEM_DATE: 1984 00 00
AGENCY: WESTERN MAPPING CENTER (WMC)
PRODUCER: UNDEFINED
PRODUCTION_SYSTEM: GIS/MAGIC
COMPRESSION: UNDEFINED
STANDARD_VERSION: 1996 12
METADATA_DATE: 2000 05 30
DATA_FILE_SIZE: 43594204
BYTE_COUNT: 5666
