FILENAME: O4611329.NES.1074883.tif
QUADRANGLE_NAME: HARVEY POINT
QUADRANT: NE
WEST_LONGITUDE: -113 26 15.00000
EAST_LONGITUDE: -113 22 30.00000
NORTH_LATITUDE: 46 37 30.00000
SOUTH_LATITUDE: 46 33 45.00000
PRODUCTION_DATE: 2000 4 27
RASTER_ORDER: LEFT_RIGHT/TOP_BOTTOM
BAND_ORGANIZATION: SINGLE FILE
BAND_CONTENT: BLACK&WHITE
BAND_CONTENT: UNDEFINED
BAND_CONTENT: UNDEFINED
BITS_PER_PIXEL: 8
SAMPLES_AND_LINES: 5672 7700
HORIZONTAL_DATUM: NAD83
HORIZONTAL_COORDINATE_SYSTEM: UTM
COORDINATE_ZONE: 12
HORIZONTAL_UNITS: METERS
HORIZONTAL_RESOLUTION: 1.00000
SECONDARY_HORIZONTAL_DATUM: NAD27
XY_ORIGIN: 312812.00000 5166680.00000
SECONDARY_XY_ORIGIN: 312876.46500 5166467.62700
NATION: US
NATION: "SCIENCE
STATE: MT
NW_QUAD_CORNER_XY: 313398.21400 5166379.08300
NE_QUAD_CORNER_XY: 318182.72100 5166232.94300
SE_QUAD_CORNERY_XY: 317973.46700 5159288.36500
SW_QUAD_CORNER_XY: 313183.44800 5159434.52300
SECONDARY_NW_QUAD_XY: 313392.50800 5166160.82300
SECONDARY_NE_QUAD_XY: 318177.16100 5166014.67800
SECONDARY_SE_QUAD_XY: 317967.90900 5159070.13400
SECONDARY_SW_QUAD_XY: 313177.74300 5159216.29700
RMSE_XY: 2.10000
IMAGE_SOURCE: BLACK AND WHITE FILM
SOURCE_IMAGE_ID: NAPP 8390 020
SOURCE_IMAGE_DATE: 1995 07 31
SOURCE_IMAGE_ID: NAPP 8390 021
SOURCE_IMAGE_DATE: 1995 07 31
SOURCE_IMAGE_ID: NAPP 8390 019
SOURCE_IMAGE_DATE: 1995 07 31
SOURCE_DEM_DATE: 1989 00 00
AGENCY: WESTERN MAPPING CENTER (WMC)
PRODUCER: UNDEFINED
PRODUCTION_SYSTEM: GIS/MAGIC
COMPRESSION: UNDEFINED
STANDARD_VERSION: 1996 12
METADATA_DATE: 2000 05 25
DATA_FILE_SIZE: 43680072
BYTE_COUNT: 5672
