FILENAME: O4611329.NWS.1074884.tif
QUADRANGLE_NAME: HARVEY POINT
QUADRANT: NW
WEST_LONGITUDE: -113 30 0.00000
EAST_LONGITUDE: -113 26 15.00000
NORTH_LATITUDE: 46 37 30.00000
SOUTH_LATITUDE: 46 33 45.00000
PRODUCTION_DATE: 2000 4 27
RASTER_ORDER: LEFT_RIGHT/TOP_BOTTOM
BAND_ORGANIZATION: SINGLE FILE
BAND_CONTENT: BLACK&WHITE
BAND_CONTENT: UNDEFINED
BAND_CONTENT: UNDEFINED
BITS_PER_PIXEL: 8
SAMPLES_AND_LINES: 5678 7704
HORIZONTAL_DATUM: NAD83
HORIZONTAL_COORDINATE_SYSTEM: UTM
COORDINATE_ZONE: 12
HORIZONTAL_UNITS: METERS
HORIZONTAL_RESOLUTION: 1.00000
SECONDARY_HORIZONTAL_DATUM: NAD27
XY_ORIGIN: 308022.00000 5166830.00000
SECONDARY_XY_ORIGIN: 308086.61000 5166617.62400
NATION: US
NATION: "SCIENCE
STATE: MT
NW_QUAD_CORNER_XY: 308613.72000 5166529.02400
NE_QUAD_CORNER_XY: 313398.21400 5166379.08300
SE_QUAD_CORNERY_XY: 313183.44800 5159434.52300
SW_QUAD_CORNER_XY: 308393.44100 5159584.48200
SECONDARY_NW_QUAD_XY: 308607.86800 5166310.76800
SECONDARY_NE_QUAD_XY: 313392.50800 5166160.82300
SECONDARY_SE_QUAD_XY: 313177.74300 5159216.29700
SECONDARY_SW_QUAD_XY: 308387.59000 5159366.26000
RMSE_XY: 1.80000
IMAGE_SOURCE: BLACK AND WHITE FILM
SOURCE_IMAGE_ID: NAPP 8390 078
SOURCE_IMAGE_DATE: 1995 07 31
SOURCE_IMAGE_ID: NAPP 8390 079
SOURCE_IMAGE_DATE: 1995 07 31
SOURCE_IMAGE_ID: NAPP 8390 077
SOURCE_IMAGE_DATE: 1995 07 31
SOURCE_DEM_DATE: 1989 00 00
AGENCY: WESTERN MAPPING CENTER (WMC)
PRODUCER: UNDEFINED
PRODUCTION_SYSTEM: GIS/MAGIC
COMPRESSION: UNDEFINED
STANDARD_VERSION: 1996 12
METADATA_DATE: 2000 05 25
DATA_FILE_SIZE: 43748990
BYTE_COUNT: 5678
