FILENAME: O4611328.NWS.1074860.tif
QUADRANGLE_NAME: SPINK POINT
QUADRANT: NW
WEST_LONGITUDE: -113 37 30.00000
EAST_LONGITUDE: -113 33 45.00000
NORTH_LATITUDE: 46 37 30.00000
SOUTH_LATITUDE: 46 33 45.00000
PRODUCTION_DATE: 2000 5 3
RASTER_ORDER: LEFT_RIGHT/TOP_BOTTOM
BAND_ORGANIZATION: SINGLE FILE
BAND_CONTENT: BLACK&WHITE
BAND_CONTENT: UNDEFINED
BAND_CONTENT: UNDEFINED
BITS_PER_PIXEL: 8
SAMPLES_AND_LINES: 5690 7711
HORIZONTAL_DATUM: NAD83
HORIZONTAL_COORDINATE_SYSTEM: UTM
COORDINATE_ZONE: 12
HORIZONTAL_UNITS: METERS
HORIZONTAL_RESOLUTION: 1.00000
SECONDARY_HORIZONTAL_DATUM: NAD27
XY_ORIGIN: 298441.00000 5167141.00000
SECONDARY_XY_ORIGIN: 298505.80100 5166928.61900
NATION: US
NATION: "SCIENCE
STATE: MT
NW_QUAD_CORNER_XY: 299044.77100 5166840.30800
NE_QUAD_CORNER_XY: 303829.23900 5166682.76600
SE_QUAD_CORNERY_XY: 303603.44600 5159738.24200
SW_QUAD_CORNER_XY: 298813.46400 5159895.80300
SECONDARY_NW_QUAD_XY: 299038.62600 5166622.06100
SECONDARY_NE_QUAD_XY: 303823.24000 5166464.51400
SECONDARY_SE_QUAD_XY: 303597.44900 5159520.02500
SECONDARY_SW_QUAD_XY: 298807.32000 5159677.59000
RMSE_XY: 2.40000
IMAGE_SOURCE: BLACK AND WHITE FILM
SOURCE_IMAGE_ID: NAPP 8389 251
SOURCE_IMAGE_DATE: 1995 07 31
SOURCE_IMAGE_ID: NAPP 8393 130
SOURCE_IMAGE_DATE: 1995 08 19
SOURCE_IMAGE_ID: NAPP 8389 250
SOURCE_IMAGE_DATE: 1995 07 31
SOURCE_IMAGE_ID: NAPP 8391 223
SOURCE_IMAGE_DATE: 1995 08 01
SOURCE_DEM_DATE: 1989 00 00
AGENCY: WESTERN MAPPING CENTER (WMC)
PRODUCER: UNDEFINED
PRODUCTION_SYSTEM: GIS/MAGIC
COMPRESSION: UNDEFINED
STANDARD_VERSION: 1996 12
METADATA_DATE: 2000 05 25
DATA_FILE_SIZE: 43881280
BYTE_COUNT: 5690
