FILENAME: O4611328.SES.1074861.tif
QUADRANGLE_NAME: SPINK POINT
QUADRANT: SE
WEST_LONGITUDE: -113 33 45.00000
EAST_LONGITUDE: -113 30 0.00000
NORTH_LATITUDE: 46 33 45.00000
SOUTH_LATITUDE: 46 30 0.00000
PRODUCTION_DATE: 2000 5 3
RASTER_ORDER: LEFT_RIGHT/TOP_BOTTOM
BAND_ORGANIZATION: SINGLE FILE
BAND_CONTENT: BLACK&WHITE
BAND_CONTENT: UNDEFINED
BAND_CONTENT: UNDEFINED
BITS_PER_PIXEL: 8
SAMPLES_AND_LINES: 5689 7708
HORIZONTAL_DATUM: NAD83
HORIZONTAL_COORDINATE_SYSTEM: UTM
COORDINATE_ZONE: 12
HORIZONTAL_UNITS: METERS
HORIZONTAL_RESOLUTION: 1.00000
SECONDARY_HORIZONTAL_DATUM: NAD27
XY_ORIGIN: 303006.00000 5160039.00000
SECONDARY_XY_ORIGIN: 303070.69800 5159826.76600
NATION: US
NATION: "SCIENCE
STATE: MT
NW_QUAD_CORNER_XY: 303603.44600 5159738.24200
NE_QUAD_CORNER_XY: 308393.44100 5159584.48200
SE_QUAD_CORNERY_XY: 308173.39100 5152640.00200
SW_QUAD_CORNER_XY: 303377.88900 5152793.77900
SECONDARY_NW_QUAD_XY: 303597.44900 5159520.02500
SECONDARY_NE_QUAD_XY: 308387.59000 5159366.26000
SECONDARY_SE_QUAD_XY: 308167.54100 5152421.81400
SECONDARY_SW_QUAD_XY: 303371.89200 5152575.59700
RMSE_XY: 1.10000
IMAGE_SOURCE: BLACK AND WHITE FILM
SOURCE_IMAGE_ID: NAPP 8391 226
SOURCE_IMAGE_DATE: 1995 08 01
SOURCE_IMAGE_ID: NAPP 8389 249
SOURCE_IMAGE_DATE: 1995 07 31
SOURCE_IMAGE_ID: NAPP 8391 227
SOURCE_IMAGE_DATE: 1995 08 01
SOURCE_IMAGE_ID: NAPP 8391 225
SOURCE_IMAGE_DATE: 1995 08 01
SOURCE_IMAGE_ID: NAPP 8390 081
SOURCE_IMAGE_DATE: 1995 07 31
SOURCE_DEM_DATE: 1989 00 00
AGENCY: WESTERN MAPPING CENTER (WMC)
PRODUCER: UNDEFINED
PRODUCTION_SYSTEM: GIS/MAGIC
COMPRESSION: UNDEFINED
STANDARD_VERSION: 1996 12
METADATA_DATE: 2000 05 25
DATA_FILE_SIZE: 43856501
BYTE_COUNT: 5689
