FILENAME: O4611327.NWS.1074836.tif
QUADRANGLE_NAME: GRIZZLY POINT
QUADRANT: NW
WEST_LONGITUDE: -113 45 0.00000
EAST_LONGITUDE: -113 41 15.00000
NORTH_LATITUDE: 46 37 30.00000
SOUTH_LATITUDE: 46 33 45.00000
PRODUCTION_DATE: 2000 4 25
RASTER_ORDER: LEFT_RIGHT/TOP_BOTTOM
BAND_ORGANIZATION: SINGLE FILE
BAND_CONTENT: BLACK&WHITE
BAND_CONTENT: UNDEFINED
BAND_CONTENT: UNDEFINED
BITS_PER_PIXEL: 8
SAMPLES_AND_LINES: 5701 7718
HORIZONTAL_DATUM: NAD83
HORIZONTAL_COORDINATE_SYSTEM: UTM
COORDINATE_ZONE: 12
HORIZONTAL_UNITS: METERS
HORIZONTAL_RESOLUTION: 1.00000
SECONDARY_HORIZONTAL_DATUM: NAD27
XY_ORIGIN: 288861.00000 5167467.00000
SECONDARY_XY_ORIGIN: 288925.99700 5167254.61500
NATION: US
NATION: "SCIENCE
STATE: MT
NW_QUAD_CORNER_XY: 289475.87600 5167166.79600
NE_QUAD_CORNER_XY: 294260.31700 5167001.65100
SE_QUAD_CORNERY_XY: 294023.49500 5160057.16600
SW_QUAD_CORNER_XY: 289233.53900 5160222.33000
SECONDARY_NW_QUAD_XY: 289469.43800 5166948.55900
SECONDARY_NE_QUAD_XY: 294254.02500 5166783.41000
SECONDARY_SE_QUAD_XY: 294017.20500 5159838.95800
SECONDARY_SW_QUAD_XY: 289227.10200 5160004.12800
RMSE_XY: 2.60000
IMAGE_SOURCE: BLACK AND WHITE FILM
SOURCE_IMAGE_ID: NAPP 8389 138
SOURCE_IMAGE_DATE: 1995 07 31
SOURCE_IMAGE_ID: NAPP 8389 164
SOURCE_IMAGE_DATE: 1995 07 31
SOURCE_IMAGE_ID: NAPP 8389 137
SOURCE_IMAGE_DATE: 1995 07 31
SOURCE_IMAGE_ID: NAPP 8389 139
SOURCE_IMAGE_DATE: 1995 07 31
SOURCE_DEM_DATE: 2000 01 01
AGENCY: WESTERN MAPPING CENTER (WMC)
PRODUCER: UNDEFINED
PRODUCTION_SYSTEM: GIS/MAGIC
COMPRESSION: UNDEFINED
STANDARD_VERSION: 1996 12
METADATA_DATE: 2000 05 25
DATA_FILE_SIZE: 44006019
BYTE_COUNT: 5701
