FILENAME: O4611327.SWS.1074838.tif
QUADRANGLE_NAME: GRIZZLY POINT
QUADRANT: SW
WEST_LONGITUDE: -113 45 0.00000
EAST_LONGITUDE: -113 41 15.00000
NORTH_LATITUDE: 46 33 45.00000
SOUTH_LATITUDE: 46 30 0.00000
PRODUCTION_DATE: 2000 4 25
RASTER_ORDER: LEFT_RIGHT/TOP_BOTTOM
BAND_ORGANIZATION: SINGLE FILE
BAND_CONTENT: BLACK&WHITE
BAND_CONTENT: UNDEFINED
BAND_CONTENT: UNDEFINED
BITS_PER_PIXEL: 8
SAMPLES_AND_LINES: 5706 7719
HORIZONTAL_DATUM: NAD83
HORIZONTAL_COORDINATE_SYSTEM: UTM
COORDINATE_ZONE: 12
HORIZONTAL_UNITS: METERS
HORIZONTAL_RESOLUTION: 1.00000
SECONDARY_HORIZONTAL_DATUM: NAD27
XY_ORIGIN: 288619.00000 5160523.00000
SECONDARY_XY_ORIGIN: 288683.99400 5160310.74700
NATION: US
NATION: "SCIENCE
STATE: MT
NW_QUAD_CORNER_XY: 289233.53900 5160222.33000
NE_QUAD_CORNER_XY: 294023.49500 5160057.16600
SE_QUAD_CORNERY_XY: 293786.92000 5153112.74000
SW_QUAD_CORNER_XY: 288991.45400 5153277.92400
SECONDARY_NW_QUAD_XY: 289227.10200 5160004.12800
SECONDARY_NE_QUAD_XY: 294017.20500 5159838.95800
SECONDARY_SE_QUAD_XY: 293780.63100 5152894.56700
SECONDARY_SW_QUAD_XY: 288985.01900 5153059.75600
RMSE_XY: 3.40000
IMAGE_SOURCE: BLACK AND WHITE FILM
SOURCE_IMAGE_ID: NAPP 8389 136
SOURCE_IMAGE_DATE: 1995 07 31
SOURCE_IMAGE_ID: NAPP 8389 168
SOURCE_IMAGE_DATE: 1995 07 31
SOURCE_IMAGE_ID: NAPP 8389 166
SOURCE_IMAGE_DATE: 1995 07 31
SOURCE_IMAGE_ID: NAPP 8389 135
SOURCE_IMAGE_DATE: 1995 07 31
SOURCE_IMAGE_ID: NAPP 8389 137
SOURCE_IMAGE_DATE: 1995 07 31
SOURCE_DEM_DATE: 2000 01 01
AGENCY: WESTERN MAPPING CENTER (WMC)
PRODUCER: UNDEFINED
PRODUCTION_SYSTEM: GIS/MAGIC
COMPRESSION: UNDEFINED
STANDARD_VERSION: 1996 12
METADATA_DATE: 2000 05 25
DATA_FILE_SIZE: 44050320
BYTE_COUNT: 5706
