FILENAME: O4611322.SES.1077010.tif
QUADRANGLE_NAME: BEARMOUTH
QUADRANT: SE
WEST_LONGITUDE: -113 18 45.00000
EAST_LONGITUDE: -113 15 0.00000
NORTH_LATITUDE: 46 41 15.00000
SOUTH_LATITUDE: 46 37 30.00000
PRODUCTION_DATE: 2000 5 1
RASTER_ORDER: LEFT_RIGHT/TOP_BOTTOM
BAND_ORGANIZATION: SINGLE FILE
BAND_CONTENT: BLACK&WHITE
BAND_CONTENT: UNDEFINED
BAND_CONTENT: UNDEFINED
BITS_PER_PIXEL: 8
SAMPLES_AND_LINES: 5656 7692
HORIZONTAL_DATUM: NAD83
HORIZONTAL_COORDINATE_SYSTEM: UTM
COORDINATE_ZONE: 12
HORIZONTAL_UNITS: METERS
HORIZONTAL_RESOLUTION: 1.00000
SECONDARY_HORIZONTAL_DATUM: NAD27
XY_ORIGIN: 322596.00000 5173336.00000
SECONDARY_XY_ORIGIN: 322660.18200 5173123.47800
NATION: US
NATION: "SCIENCE
STATE: MT
NW_QUAD_CORNER_XY: 323171.19200 5173035.26000
NE_QUAD_CORNER_XY: 327950.20500 5172896.73600
SE_QUAD_CORNERY_XY: 327751.76900 5165952.06000
SW_QUAD_CORNER_XY: 322967.23900 5166090.60200
SECONDARY_NW_QUAD_XY: 323165.77800 5172816.95800
SECONDARY_NE_QUAD_XY: 327944.93700 5172678.43000
SECONDARY_SE_QUAD_XY: 327746.50200 5165733.78700
SECONDARY_SW_QUAD_XY: 322961.82600 5165872.33200
RMSE_XY: 1.30000
IMAGE_SOURCE: BLACK AND WHITE FILM
SOURCE_IMAGE_ID: NAPP 8391 175
SOURCE_IMAGE_DATE: 1995 08 01
SOURCE_IMAGE_ID: NAPP 8393 170
SOURCE_IMAGE_DATE: 1995 08 19
SOURCE_DEM_DATE: 1988 00 00
AGENCY: WESTERN MAPPING CENTER (WMC)
PRODUCER: UNDEFINED
PRODUCTION_SYSTEM: GIS/MAGIC
COMPRESSION: UNDEFINED
STANDARD_VERSION: 1996 12
METADATA_DATE: 2000 05 30
DATA_FILE_SIZE: 43511608
BYTE_COUNT: 5656
